{"text_format":"1","workbook":"xlsx","n_sheets":4,"sheets":["Дод_2","Б-т 2025","Лист1","Лист2"],"not_rendered":{"charts":0,"images":0,"macros":0,"external_links":0,"defined_names":3,"comments":1,"pivot_tables":0},"unopened":[],"bounds":{"document_bytes":16777216,"sheet_cells":100000,"rows_first":2000,"rows_last":500,"rows_between":2000,"halvings":0,"cell_chars":16384,"cell_head_chars":4096},"cells_cut":0,"cells_raw":0,"read":"whole","date_system":"1900"}

{"sheet":"Дод_2","index":0,"n_rows":136,"n_cols":23,"rows_kept":136,"cut":false,"hidden":false,"merged":[[132,0,132,13],[113,0,114,0],[113,1,114,1],[113,2,114,2],[113,3,114,3],[113,4,114,4],[113,12,114,12],[113,13,114,13],[30,11,32,11],[35,11,36,11],[44,11,45,11],[68,11,69,11],[74,11,75,11],[90,11,91,11],[93,11,94,11],[98,11,100,11],[102,11,103,11],[109,0,109,4],[110,3,111,3],[29,13,32,13],[34,0,37,0],[30,12,32,12],[30,9,32,9],[77,1,80,1],[81,0,84,0],[129,13,130,13],[117,0,117,4],[118,0,124,4],[102,7,103,7],[110,7,111,7],[90,7,91,7],[96,0,96,4],[102,0,106,0],[102,1,106,1],[102,4,106,4],[107,0,108,0],[107,1,108,1],[107,4,108,4],[89,0,91,0],[97,1,100,1],[98,2,100,2],[110,13,111,13],[110,12,111,12],[98,8,100,8],[102,12,103,12],[102,8,103,8],[102,9,103,9],[110,8,111,8],[102,2,103,2],[2,10,2,13],[53,0,57,0],[53,1,57,1],[97,0,100,0],[90,5,91,5],[23,0,26,0],[77,4,78,4],[53,4,57,4],[60,0,64,0],[60,1,64,1],[23,1,26,1],[23,4,25,4],[27,0,28,4],[3,0,3,13],[34,1,37,1],[34,4,37,4],[35,7,36,7],[35,8,36,8],[35,9,36,9],[44,12,45,12],[35,12,36,12],[35,10,36,10],[27,13,28,13],[29,0,32,4],[12,0,15,0],[12,1,15,1],[12,4,15,4],[12,13,15,13],[16,12,16,13],[20,2,21,2],[18,1,22,1],[18,0,22,0],[18,13,21,13],[20,3,21,3],[18,4,22,4],[14,2,15,2],[38,0,42,0],[38,1,42,1],[38,4,42,4],[38,13,42,13],[43,0,47,0],[43,1,47,1],[43,13,47,13],[43,4,47,4],[44,5,45,5],[93,6,94,6],[23,13,26,13],[70,1,73,1],[70,4,73,4],[68,8,69,8],[68,9,69,9],[74,7,75,7],[74,8,75,8],[44,2,45,2],[89,2,91,2],[89,3,91,3],[89,4,91,4],[92,0,95,4],[93,5,94,5],[68,5,69,5],[44,3,45,3],[85,1,88,1],[51,12,52,12],[30,5,32,5],[44,10,45,10],[63,10,64,10],[30,7,32,7],[30,8,32,8],[34,13,37,13],[133,0,133,5],[97,4,100,4],[63,2,64,2],[63,3,64,3],[101,0,101,4],[110,1,111,1],[110,0,111,0],[110,2,111,2],[51,5,52,5],[127,5,128,5],[129,5,130,5],[74,0,76,0],[74,1,76,1],[74,4,76,4],[79,4,80,4],[110,4,111,4],[74,3,75,3],[74,2,75,2],[77,0,80,0],[65,4,69,4],[70,0,73,0],[102,3,103,3],[68,2,69,2],[68,3,69,3],[98,3,100,3],[59,0,59,4],[63,5,64,5],[35,2,36,2],[35,3,36,3],[35,5,36,5],[51,8,52,8],[51,9,52,9],[63,8,64,8],[63,9,64,9],[40,2,41,2],[40,3,41,3],[38,2,39,2],[44,7,45,7],[81,1,84,1],[44,8,45,8],[44,9,45,9],[85,0,88,0],[85,4,87,4],[89,1,91,1],[60,4,64,4],[65,0,69,0],[65,1,69,1],[81,4,84,4],[60,13,64,13],[49,13,52,13],[65,13,69,13],[70,13,73,13],[74,13,76,13],[74,10,75,10],[68,10,69,10],[68,12,69,12],[74,12,75,12],[63,12,64,12],[77,13,78,13],[90,12,91,12],[79,13,80,13],[81,13,84,13],[85,13,87,13],[89,13,91,13],[90,10,91,10],[68,7,69,7],[7,0,10,0],[7,1,10,1],[7,2,10,2],[7,3,10,3],[7,4,10,4],[7,5,10,5],[7,13,10,13],[9,12,10,12],[9,7,10,7],[9,8,10,8],[9,9,10,9],[9,10,10,10],[9,6,10,6],[9,11,10,11],[74,9,75,9],[53,13,57,13],[92,13,95,13],[93,7,94,7],[93,8,94,8],[93,9,94,9],[93,10,94,10],[93,12,94,12],[97,13,100,13],[98,10,100,10],[98,7,100,7],[98,12,100,12],[127,7,128,7],[127,8,128,8],[127,9,128,9],[118,13,124,13],[125,5,126,5],[125,6,126,6],[125,10,126,10],[125,13,126,13],[102,13,106,13],[107,13,108,13],[127,12,128,12],[121,12,122,12],[127,13,128,13],[110,9,111,9],[123,11,124,11],[125,11,126,11],[127,11,128,11],[121,11,122,11],[113,5,114,5],[113,6,114,6],[113,7,114,7],[113,8,114,8],[113,9,114,9],[113,10,114,10],[90,9,91,9],[129,12,130,12],[125,12,126,12],[121,8,122,8],[121,9,122,9],[123,8,124,8],[123,9,124,9],[123,12,124,12],[129,8,130,8],[129,9,130,9],[129,11,130,11],[125,0,128,4],[129,0,130,4],[129,7,130,7],[127,6,128,6],[51,7,52,7],[63,7,64,7],[74,5,75,5],[98,9,100,9],[125,8,126,8],[125,9,126,9],[104,3,105,3],[110,5,111,5],[102,5,103,5],[98,5,100,5],[98,6,100,6],[102,6,103,6],[110,6,111,6],[121,6,122,6],[123,6,124,6],[121,7,122,7],[123,7,124,7],[125,7,126,7],[123,5,124,5],[90,8,91,8],[1,10,1,13],[113,11,114,11],[129,6,130,6],[7,6,8,12],[4,0,4,13],[30,6,32,6],[35,6,36,6],[44,6,45,6],[51,6,52,6],[63,6,64,6],[68,6,69,6],[74,6,75,6],[90,6,91,6],[129,10,130,10],[127,10,128,10],[121,5,122,5],[51,10,52,10],[30,10,32,10],[102,10,103,10],[110,10,111,10],[121,10,122,10],[123,10,124,10],[49,0,52,4],[5,0,6,13]]}
[null,null,null,null,null,null,null,null,null,null,"              Додаток 2"]
[null,null,null,null,null,null,null,null,null,null,"              до рішення виконкому міської ради "]
[null,null,null,null,null,"               ",null,null,null,null,"               22.08.2025 №1068"]
["ПРОГРАМА   "]
["розвитку та утримання житлово-комунального  господарства міста на період 2017–2028 років"]
["       Перелік завдань і заходів  Програми розвитку та утримання                                                                                                                    житлово-комунального  господарства міста на період 2017–2028 років"]
[]
["№ п/п","Назва напряму діяльнос-ті (пріори-тетні завдання) ","Перелік заходів програми ","Строк, роки ","Виконавці ","Джерела фінансування ","Орієнтовні обсяги потреби в фінансуванні (вартість),  тис. грн, у тому числі:",null,null,null,null,null,null,"Очікуваний результат "]
[]
[null,null,null,null,null,null,"2017 - 2023 роки","2024 рік","2025 рік","2026 рік","2027 рік","2028 рік","Усього"]
[]
[1,2,3,4,5,6,7,8,9,10,11,12,13,14]
[1,"Утри-мання, ремонт, рекон-струкція жит-лового фонду","1.1. Капіталь-ний ремонт ліфтів","2017-2028","Департамент розвитку інф-раструктури міста виконкому Криворізької міської ради, одержувачі коштів","Бюджет Криворізької міської територіальної громади",1092630,150000,25000,35000,40000,45000,{"$f":"SUM(G13:L13)","v":1387630}," Гарантування    умов   безпечного та комфортного проживання насе-лення. Надання  об'єднанням співвласників багатоквартир-ного будинку передбаченої чинним зако-нодавством Ук-раїни технічної та/ або іншої документації на житлові будинки. Безпечне  користування   ліфтами  меш-канцями бага-токвартирних  будинків, їх належна технічна                                        "]
[null,null,"1.2. Експертне обстеження ліфтів","2017-2024",null,{"$f":"F13","v":"Бюджет Криворізької міської територіальної громади"},890,150,0,0,0,0,{"$f":"SUM(G14:L14)","v":1040}]
[null,null,"1.3. Капіталь-ний, поточний ремонт, утримання та реконструкція житлового фонду","2017-2028",null,{"$f":"F13","v":"Бюджет Криворізької міської територіальної громади"},328300,50000,50000,50000,50000,50000,578300]
[null,null,null,"2017-2023",null,"Власні надхо-дження",721.5,0,0,0,0,0,721.5]
[null,null,null,null,null,null,null,null,null,null,null,null,"Продовження додатка 2"]
[1,2,3,4,5,6,7,8,9,10,11,12,12,14]
[null,null,"1.4. Охорона об'єктів житлового фонду","2017-2022",null,{"$f":"F15","v":"Бюджет Криворізької міської територіальної громади"},9280,0,0,0,0,0,{"$f":"SUM(G19:L19)","v":9280},"експлуатація та      безперебійна ро-бота. Продовження   терміну експлуатації ліфтів. Заміна табличок з назвами топонімів на будинках на нові"]
[null,null,"1.5. Заміна адресних вивісок","2017-2028",null,{"$f":"F19","v":"Бюджет Криворізької міської територіальної громади"},3900,{"$f":"500+200","v":700},{"$f":"700","v":700},700,700,700,{"$f":"SUM(G20:L20)","v":7400}]
[null,null,"1.6. Заходи з виконання доручень виборців депутатами Дніпро-петровської обласної ради ","2017-2019",null,"Субвенція з обласного бюджету бюджетам міст, районів та об’єднанням територіаль-них   громад на виконання доручень виборців  депутатами обласної ради ",7290,"*","*","*","*","*",7290]
[null,null,null,null,null,{"$f":"F26","v":"Бюджет Криворізької міської територіальної громади"},6000,0,0,0,0,0,6000]
[null,null,"1.7. Фінансу-вання пере-можців обласного конкурсу мікропроєктів з енергоефек-тивності та енергозбере-","2017-2019",null,"Субвенція з обласного бюджету до місцевих бюджетів на фінансування переможців обласного конкурсу мік-",749.17000000000007,"*","*","*","*","*",749.17000000000007,"Підвищення рівня надання населенню житлово-кому-нальних послуг відповідно до вимог національних стандартів, "]
[null,null,"ження серед органів самоорганізації населення й ОСББ",null,null,"ропроєктів з енергоефек-тивності та енерго-збереження серед  органів самоорга-нізації населення та ОСББ",null,null,null,null,null,null,null,"гармонізованих з міжнародними або регіональними"]
[null,null,"1.8. Послуги з приєднання електроуста-новок до електричних мереж",2017,null,{"$f":"F19","v":"Бюджет Криворізької міської територіальної громади"},120,0,0,0,0,0,{"$f":"SUM(G25:L25)","v":120}]
[null,null,"1.9. Створення належних умов для проживання внутрішньо-переміщених осіб у гурто-житках міста",2021,null,{"$f":"F25","v":"Бюджет Криворізької міської територіальної громади"},272.14999999999998,0,0,0,0,0,{"$f":"SUM(G26:L26)","v":272.14999999999998}]
[null,null,"1.10. Заходи (ремонтні роботи) з усунення аварій у житловому фонді","2022-2028","Одержувачі коштів",{"$f":"F26","v":"Бюджет Криворізької міської територіальної громади"},3500,3000,3000,3000,3000,3000,18500]
["Усього",null,null,null,null,{"$f":"F26","v":"Бюджет Криворізької міської територіальної громади"},1444892.15,{"$f":"H27+H26+H25+H22+H20+H19+H15+H14+H13","v":203850},{"$f":"I27+I26+I25+I22+I20+I19+I15+I14+I13","v":78700},{"$f":"J27+J26+J25+J22+J20+J19+J15+J14+J13","v":88700},{"$f":"K27+K26+K25+K22+K20+K19+K15+K14+K13","v":93700},{"$f":"L27+L26+L25+L22+L20+L19+L15+L14+L13","v":98700},2008542.15]
[null,null,null,null,null,"Власні надходження",721.5,0,0,0,0,0,721.5]
[null,null,null,null,null,"Субвенція з обласного бюджету бюджетам міст, районів та об’єднанням територіаль-них громад на виконання доручень виборців депутатами обласної ради",7290,{"$f":"H21","v":"*"},{"$f":"I21","v":"*"},{"$f":"J21","v":"*"},{"$f":"K21","v":"*"},"*",{"$f":"SUM(G30:L30)","v":7290}]
[null,null,null,null,null,"Субвенція з обласного бюджету до місцевих бюджетів на фінансування переможців обласного конкурсу мікропроєктів з енергоефек- тивності та енерго-збереження серед  органів самоорганіза-ції населення та ОСББ",749.17000000000007,"*","*","*","*","*",{"$f":"SUM(G31:L33)","v":749.17000000000007}]
[]
[]
[2,"Комуналь-не майно","2.1. Оформлення висновка спеціалізованої організації про можливість (неможливість) подальшої ","2017-2028","Департамент розвитку інф-раструктури міста виконкому Криворізької міської ради",{"$f":"F26","v":"Бюджет Криворізької міської територіальної громади"},621.5,150,{"$f":"5+55","v":60},68,75,80,{"$f":"SUM(G34:L34)","v":1054.5},"Реалізація заходів з упорядкування об҆єктів, що перебувають на балансовому обліку департаменту "]
[null,null,"експлуатації основних засобів, інших необоротних матеріальних активів, проведення експертиз",null,null,null,null,null,null,null,null,null,null,"розвитку інфаструктури міста виконкому  Криворізької міської ради. Забезпечення діяльності департаменту розвитку інфаструктури міста виконкому Криворізької міської ради в межах повноважень"]
[null,null,"2.2. Інвентари-зація, технічна інвентаризація, оцінка майна, технічне обстеження об’єктів нерухомого майна та  об’єктів (елементів) благоустрою з виготовленням технічного паспорта та  технічного висновку, оформлення довідок на об’єкти  нерухомго майна ","2017-2028",null,{"$f":"F34","v":"Бюджет Криворізької міської територіальної громади"},3886.66,1200,300,300,300,300,{"$f":"SUM(G36:L37)","v":6286.66}]
[]
[null,null,"2.3. Знесення (розбирання) об'єктів нерухомого майна","2017-2023",null,{"$f":"F36","v":"Бюджет Криворізької міської територіальної громади"},12050,0,0,0,0,0,{"$f":"SUM(G38:L38)","v":12050}]
[null,null,"2.4. Придбання в комунальну власність житла для надання в тимчасове користування внутрішньо переміщеним особам та послуги з оформлення відповідних документів",2018,null,"Субвенція з де-ржавного бю-джету місцевим бюджетам на здійснення за-ходів щодо під-тримки терито-рій, що зазнали негативного  впливу внаслі-док  збройного конфлікту на сході України",2000,0,0,0,0,0,{"$f":"SUM(G39:L39)","v":2000}]
[null,null,null,2018,null,{"$f":"F36","v":"Бюджет Криворізької міської територіальної громади"},2140,0,0,0,0,0,{"$f":"SUM(G40:L40)","v":2140}]
[null,null,"2.5. Сплата  земельного податку","2017-2028",null,"Власні надхо-дження",4880,0,0,0,0,0,4880]
[null,null,null,null,null,{"$f":"F40","v":"Бюджет Криворізької міської територіальної громади"},641.82000000000005,188,84,94500,100000,110000,305413.82]
[null,null,"2.6. Витрати, пов'язані із судовими процесами,ого-лошеннями за судовими справами, послугами: з питань патентування та авторського ","2017-2028",null,{"$f":"F42","v":"Бюджет Криворізької міської територіальної громади"},2065,{"$f":"1000+500","v":1500},{"$f":"5+200+76+2000","v":2281},{"$f":"6+270+85+2500","v":2861},{"$f":"7+290+92+3000","v":3389},4000,16096]
[null,null,"права, юридичними, поштовими та з оформлення справ для архіву"]
[null,null,"2.7. Висвітлення діяльності департаменту розвитку інфра-структури міста виконкому Криворізької міської ради в медіа","2017-2024",null,{"$f":"F43","v":"Бюджет Криворізької міської територіальної громади"},1202.9000000000001,100,0,0,0,0,{"$f":"SUM(G45:L46)","v":1302.9000000000001}]
[]
[null,null,"2.8. Реєстрація та перереєстра-ція спеціальної техніки, автотранспорту (узяття на облік та зняття з нього)","2017-2023",null,{"$f":"F45","v":"Бюджет Криворізької міської територіальної громади"},141,0,0,0,0,0,{"$f":"SUM(G47:L47)","v":141}]
[null,null,"2.9. Послуги з розробки про-ектів землеуст-рою щодо від-ведення земельних ділянок у постійне користування під об´єкти нерухомості","2019-2024",null,"Бюджет Криворізької міської територіальної громади",600,400,0,0,0,0,{"$f":"SUM(G48:L48)","v":1000}]
[null,null,"2.10. Прид-бання техніки та обладнання, предметів довгостроко-вого користу-вання ",2020,null,"Бюджет Криворізької міської територіальної громади",16000.8,0,0,0,0,0,{"$f":"SUM(G49:L49)","v":16000.8}]
["Усього",null,null,null,null,"Бюджет Криворізької міської територіальної громади",39349.68,{"$f":"SUM(H34:H49)-H39-H41","v":3538},{"$f":"SUM(I34:I49)-I39-I41","v":2725},{"$f":"SUM(J34:J49)-J39-J41","v":97729},{"$f":"SUM(K34:K49)-K39-K41","v":103764},{"$f":"L49+L48+L45+L47+L43+L42+L41+L40+L39+L38+L36+L34","v":114380},{"$f":"SUM(M34:M49)-M39-M41","v":361485.68}]
[null,null,null,null,null,"Власні надхо-дження",4880,{"$f":"H41","v":0},{"$f":"I41","v":0},{"$f":"J41","v":0},0,0,{"$f":"SUM(G51:L51)","v":4880}]
[null,null,null,null,null,"Субвенція з державного бюджету місцевим бюджетам на здійснення за- ходів щодо підтримки територій, що зазнали негативного впливу внаслідок збройного конфлікту на сході України ",2000,{"$f":"H39","v":0},0,{"$f":"J39","v":0},0,0,{"$f":"M39","v":2000}]
[]
[3,"Санітар-на очистка міста","3.1. Оформлен-ня права корис-тування земе-льними ділян-ками під полі-гонами звалищ сміття міста","2017-2021","Департамент розвитку інф-раструктури міста виконкому Криворізької міської ради",{"$f":"F50","v":"Бюджет Криворізької міської територіальної громади"},2190,0,0,0,0,0,{"$f":"SUM(G54:L54)","v":2190},"Покращення еко-логічної ситуації в місті (санітарне очищення) "]
[null,null,"3.2. Розробка проєктно-кошторисної документації на рекультивацію полігону для складування твердих побутових відходів",2022,null,"Бюджет Криворізької міської територіальної громади",1000,0,0,0,0,0,{"$f":"SUM(G55:L55)","v":1000}]
[null,null,"3.3. Ліквідація стихійних звалищ","2017-2022",null,{"$f":"F54","v":"Бюджет Криворізької міської територіальної громади"},6251,0,0,0,0,0,6251]
[null,null,"3.4.Придбання та ремонт кон-тейнерних систем для розміщення контейнерів для збору твердих побутових відходів","2018-2028",null,{"$f":"F56","v":"Бюджет Криворізької міської територіальної громади"},66360,13000,{"$f":"9000+2500","v":11500},{"$f":"9500+2900","v":12400},{"$f":"9500+3000","v":12500},13000,{"$f":"SUM(G57:L57)","v":128760}]
[null,null,"3.5. Утримання, поточний, капітальний ремонти контейнерних майданчиків","2020-2022",null,{"$f":"F57","v":"Бюджет Криворізької міської територіальної громади"},50000,0,0,0,0,0,{"$f":"SUM(G58:L58)","v":50000}]
[null,null,"3.6. Коригу-вання схеми санітарної очистки міста","2021-2023",null,"Бюджет Криворізької міської територіальної громади",940,0,0,0,0,0,{"$f":"SUM(G59:L59)","v":940}]
["Усього",null,null,null,null,"Бюджет Криворізької міської територіальної громади",126741,{"$f":"H59+H58+H57+H56+H55+H54","v":13000},{"$f":"I59+I58+I57+I56+I55+I54","v":11500},{"$f":"J59+J58+J57+J56+J55+J54","v":12400},{"$f":"K59+K58+K57+K56+K55+K54","v":12500},{"$f":"L59+L58+L57+L56+L55","v":13000},{"$f":"SUM(M54:M59)","v":189141}]
[4,"Підтрим-ка  кому-нальних підпри-ємств - надавачів послуг з теплопос-тачання, водопо-стачання та водовідве-дення","4.1. Фінансова підтримка","2017-2021","Департамент розвитку інф-раструктури міста виконкому Криворізької міської ради - головний роз-порядник коштів, Ко-мунальне  підприємство теплових мереж «Криворіжте-пломережа» - одержувач коштів ","Бюджет Криворізької міської територіальної громади",248166.29,0,0,0,0,0,{"$f":"SUM(G61:L61)","v":248166.29},"Економія теплової та електричної енергії, природного газу, покращення якості  виконання робіт на системі тепло- постачання. Покращення якості надання послуг з водопостачання та водовідведення. Зниження травма-тизму населення, запобігання нещасним випадкам. Економія енергоресурсів"]
[null,null,"4.2 Погашення заборгованості за теплову енергію",2022,null,"Бюджет Криворізької міської територіальної громади",75000,0,0,0,0,0,{"$f":"SUM(G62:L62)","v":75000}]
[null,null,"4.3. Придбання теплоізо-ляційних матеріалів","2017-2023",null,{"$f":"F61","v":"Бюджет Криворізької міської територіальної громади"},24000,0,0,0,0,0,24000]
[null,null,"4.4. Придбання блочних автоматизова-них пальників з частотними перетворюва-чами","2017-2019",null,"Бюджет Криворізької міської територіальної громади",16000,0,0,0,0,0,{"$f":"SUM(G64:L65)","v":16000}]
[]
[null,null,"4.5. Реконст-рукція схеми теплопоста-чання",2017,null,{"$f":"F64","v":"Бюджет Криворізької міської територіальної громади"},1500,0,0,0,0,0,{"$f":"SUM(G66:L66)","v":1500}]
[null,null,"4.6. Демонтаж димової труби котельні «Прорізна, 87»",2017,null,"Бюджет Криворізької міської територіальної громади",1500,0,0,0,0,0,{"$f":"SUM(G67:L67)","v":1500}]
[null,null,"4.7. Поповнення статутного  капіталу  на  придбання спецтехніки, обладнання  та предметів довгостроко-вого користування","2017-2027",null,"Бюджет Криворізької міської територіальної громади",123530,0,{"$f":"30000","v":30000},35000,40000,45000,{"$f":"SUM(G68:L68)","v":273530}]
[null,null,"4.8. Оснащення вузлами комерційного  обліку теплової енергії житлових будинків, приєднаних до зовнішніх інженерних мереж","2018-2019",null,"Бюджет Криворізької міської  територіальної громади",30987.190000000002,0,0,0,0,0,{"$f":"SUM(G69:L70)","v":30987.190000000002}]
[]
[null,null,"4.9. Поповнення статутного капіталу  на ви-конання робіт з будівництва, реконструкції, капітального ремонту  коте-лень та  тепло-вих мереж ","2019-2023",null,{"$f":"F67","v":"Бюджет Криворізької міської територіальної громади"},81000,0,0,0,0,0,{"$f":"SUM(G71:L71)","v":81000}]
[null,null,"4.10. Придбан-ня матеріалів, обладнання (устаткування) для виконання робіт з буді-вництва, реко-нструкції, капі-тального та поточного ре-монту котелень і  теплових мереж ","2022-2028",null,{"$f":"F68","v":"Бюджет Криворізької міської територіальної громади"},20000,50000,50000,50000,50000,70000,{"$f":"SUM(G72:L72)","v":290000}]
[null,null,"4.11. Заходи щодо врегулю-вання проблем-них питань в опалювальний період 2021/2022 років, пов'язані з різким зроста-нням цін  на енергоресурси","2021-2022",null,{"$f":"F72","v":"Бюджет Криворізької міської територіальної громади"},47500,0,0,0,0,0,{"$f":"SUM(G73:L73)","v":47500},null,null,null,null,null,null,null,null,null,"з"]
[null,null,"4.12. Оплата праці та енергоносіїв (електроенергія, вода тощо)","2022-2026",null,{"$f":"F73","v":"Бюджет Криворізької міської територіальної громади"},148000,46000,60000,62000,65000,75000,{"$f":"SUM(G74:L74)","v":456000}]
[null,null,"4.13.Придбання обладнання та предметів довгостроко-вого користу-вання (транс-портних засо-бів, спецтехніки та спеціа-лізованої техні-ки, устаткуван-ня, обладнання, пристроїв тощо) для здійснення заходів з енергозбе-реження","2022-2028",null,{"$f":"F74","v":"Бюджет Криворізької міської територіальної громади"},34860,0,0,0,0,0,{"$f":"SUM(G75:L76)","v":34860}]
[]
[null,null,"4.14. Придбан-ня обладнання та предметів довгостроко-вого користу-вання (транс-портних засо-бів, спецтехніки та спеціа-лізованої техні-ки, устаткуван-ня, обладнання, пристроїв тощо)  ",2022,null,{"$f":"F75","v":"Бюджет Криворізької міської територіальної громади"},17600,0,0,0,0,0,{"$f":"SUM(G77:L77)","v":17600}]
[null,null,"4.15. Заходи, у тому числі з енергозбереже-ння, на об'єктах теплопостачан-ня комунальної власності міста Кривого Рогу в умовах збройної агресії Російської Федерації проти України","2023-2028",null,"Субвенція з обласного бю-джету для здій-снення заходів,   в тому числі з енергозбереже-ння, на об'єктах теплопостачан-ня комунальної власності міста Кривого Рогу в умовах збройної агре-сії Російської Федерації проти України",300000,{"$f":"300000","v":300000},348878.3,400000,0,0,{"$f":"SUM(G78:L78)","v":1348878.3}]
[null,null,"4.16.  Заходи з енергозбере-ження (вико-нання робіт з будівництва, реконструкції, капітального ремонту коте-лень та інжененрних мереж) ","2024 - 2028",null,"Бюджет Криворізької міської територіальної громади",0,295000,300000,200000,250000,300000,{"$f":"SUM(G79:L79)","v":1345000}]
[null,null,"4.17. Оплата праці та енергоносіїв (електроенергія, вода тощо)","2017-2028","Департамент розвитку інф-раструктури міста виконкому Криворізької міської ради - головний роз-порядник коштів,     Комунальне   ",{"$f":"F72","v":"Бюджет Криворізької міської територіальної громади"},373000,{"$f":"20000+7000+50000","v":77000},80000,85000,90000,95000,{"$f":"SUM(G80:L80)","v":800000},"Покращення якості надання послуг з водо-постачання та водовідведення. Зниження тра-вматизму насе-лення, запобі-гання нещасним  випадкам. Еко-номія ресурсів"]
[null,null,"4.18. Придбан-ня кришок люків","2017-2028",null,{"$f":"F72","v":"Бюджет Криворізької міської територіальної громади"},9652.5,600,625,600,650,700,12827.5]
[null,null,"4.19. Послуги щодо фінан-сового лізингу на придбання спецтехніки","2017-2019","підприємство «Кри-вбасводо-канал» - одержувач коштів ",{"$f":"F81","v":"Бюджет Криворізької міської територіальної громади"},72902.959999999992,0,0,0,0,0,{"$f":"SUM(G82:L82)","v":72902.959999999992}]
[null,null,"4.20.  Капіталь-ний  ремонт, будівництво, реконструкція  мереж водо-постачання та водовідведення","2017-2028",null,{"$f":"F82","v":"Бюджет Криворізької міської територіальної громади"},132911.57,0,{"$f":"25000+45000","v":70000},70000,70000,90000,{"$f":"SUM(G83:L83)","v":432911.57}]
[null,null,"4.21. Прид-бання мате-ріалів, облад-нання (уста-ткування) для виконання ка-пітальних ре-монтів, будів-ництва, реконс-трукції мереж і споруд водопостачання та водо-відведення","2017-2028",null,{"$f":"F83","v":"Бюджет Криворізької міської територіальної громади"},57217.35,400,5000,6000,7000,8000,83617.350000000006]
[null,null,"4.22.  Попов-нення статут-ного  капіталу на  придбання спецтехніки, обладнання та   предметів до-вгострокового користування  ","2017-2028",null,"Бюджет Криво-різької міської територіальної громади ",166143.84,{"$f":"15000+5380+10000","v":30380},35000,35000,35000,35000,336523.83999999997]
[null,null,"4.23. Послуги з обслуговування підвищува-льних насосів холодної води",2017,null,"Бюджет Криво-різької міської територіальної громади",2340,0,0,0,0,0,2340]
[null,null,"4.24. Придбан-ня пожежних гідрантів","2020-2028",null,{"$f":"F85","v":"Бюджет Криво-різької міської територіальної громади "},3702.5,{"$f":"1200+1200","v":2400},2250,2500,2750,3000,16602.5]
[null,null,"4.25.Придбання обладнання та предметів довгостроко-вого користу-вання (транс-портних засо-бів, спецтехніки та спеціа-лізованої техні-ки, устаткуван-ня, обладнання, пристроїв тощо) ","2023-2028",null,"Бюджет Криво-різької міської територіальної громади",83000,2000,0,0,0,0,85000]
[null,null,"4.26. Заходи із забезпечення  міста Кривого Рогу водо-постачанням в умовах зброй-ної агресії Російської Федерації проти України",2023,"Департамент розвитку інф-раструктури міста виконко-му Криворізь-кої міської ради - голов-ний розпоряд-ник коштів,     Комунальне   підприємство «Кривбасводо-канал» - ","Субвенція з обласного бю-джету до бю-джету Криворі-зької міської територіальної громади для здійснення за-ходів із забез-печення  міста Кривого Рогу водопостачан-ням в умовах",100000,0,0,0,0,0,{"$f":"SUM(G89:L90)","v":100000},"Недопущення зниження експлуатаційного рівня води в джерелі питного водопостачання міста за рахунок упровадження альтернативної моделі подачі (перекачування) обсягу води для поповнення "]
[null,null,null,null,"одержувач коштів "," збройної агре-сії Російської Федерації проти України",null,null,null,null,null,null,null,"Південного водосховища"]
[null,null,null,null,null,"Бюджет Криворізької міської територіальної громади",80900,0,0,0,0,0,{"$f":"SUM(G91:L92)","v":80900}]
[]
["Усього",null,null,null,null,{"$f":"F87","v":"Бюджет Криво-різької міської територіальної громади "},1851414.2,{"$f":"SUM(H61:H88)-H78+H91","v":503780},{"$f":"SUM(I61:I88)-I78+I91","v":632875},{"$f":"SUM(J61:J88)-J78+J91","v":546100},{"$f":"SUM(K61:K88)-K78+K91","v":610400},{"$f":"L91+L89+L88+L87+L86+L85+L84+L83+L82+L81+L80+L79+L78+L77+L75+L74+L73+L72+L71+L69+L68+L67+L66+L65+L64+L63+L62+L61","v":721700},{"$f":"SUM(M61:M88)-M78+M91","v":4866269.2}]
[null,null,null,null,null,"Субвенція з обласного бю-джету для здійснення заходів,   у тому числі з енерго-збереження, на об'єктах теплопоста-чання комуна-льної власності міста Кривого Рогу в умовах збройної агре-сії Російської Федерації проти України",300000,300000,348783.3,0,0,0,{"$f":"SUM(G94:L94)","v":948783.3}]
[]
[null,null,null,null,null,"Субвенція з обласного бю-джету до бю-джету Криворі-зької міської територіальної громади для ",100000,0,0,0,0,0,{"$f":"M89","v":100000}]
[null,null,null,null,null,"здійснення за-ходів із забез-печення  міста Кривого Рогу водопостачан-ням в умовах збройної агре-сії Російської Федерації проти України"]
[5,"Заходи,  пов’язані з економіч-ною дія-льністю Комуналь-ного   зак-ладу   «Дитячий оздоров-чий табір «Перлина Кри-воріжжя» Криворізь-кої міської ради","5.1. Поповнення статутного капіталу на придбання  обладнання   і предметів довгостроко-вого користування",2017,"Департамент розвитку інф-раструктури міста виконкому Криворізької міської ради - головний роз-порядник коштів, Ко-мунальний заклад «Ди- тячий оздо-ровчий табір  «Перлина Кри-воріжжя» Криворізької міської ради - одержувач коштів ",{"$f":"F93","v":"Бюджет Криво-різької міської територіальної громади "},174.9,0,0,0,0,0,{"$f":"SUM(G98:L98)","v":174.9},"Забезпечення умов для оздоровлення дітей та стабільної роботи Комунального закладу «Дитячий оздоровчий табір   «Перлина Криворіжжя» Криворізької міської ради "]
[null,null,"5.2. Інші  заходи, пов'язані з економічною діяльністю закладу","2017, 2018",null,{"$f":"F98","v":"Бюджет Криво-різької міської територіальної громади "},625.09999999999991,0,0,0,0,0,{"$f":"SUM(G99:L101)","v":625.09999999999991}]
[]
[]
["Усього",null,null,null,null,{"$f":"F99","v":"Бюджет Криво-різької міської територіальної громади "},800,{"$f":"H98+H99","v":0},{"$f":"I98+I99","v":0},{"$f":"J98+J99","v":0},{"$f":"K98+K99","v":0},0,{"$f":"SUM(G102:L102)","v":800}]
[6,"Заходи,  пов’язані з економіч-ною дія-льністю Комуналь-ного  під-приємст-ва «Кривбас-теплоенер-го» Криворізь-кої міської ради","6.1. Заходи, пов´язані із за-лученням кре-дитних ресурсів на впрова-дження проєк-тів з енерго-ефективності","2017-2019","Департамент розвитку інф-раструктури міста виконкому Криворізької міської  ради -головний розпорядник коштів, Комунальне підприємство «Кривбастеп-лоенерго» Криворізької міської ради - одержувач коштів",{"$f":"F102","v":"Бюджет Криво-різької міської територіальної громади "},3000,0,0,0,0,0,{"$f":"SUM(G103:L104)","v":3000},"Реалізація програм пріоритетних інвестицій для підвищення енергоефектив-ності  грома-дських будівель"]
[]
[null,null,"6.2. Поповнення статутного капіталу на придбання  обладнання і предметів дов-гострокового користування, виконання робіт з будівництва, капітального ремонту, реконструкції","2017-2025",null,{"$f":"F103","v":"Бюджет Криво-різької міської територіальної громади "},269,1500,{"$f":"28","v":28},0,0,0,{"$f":"SUM(G105:L105)","v":1797}]
[null,null,"6.3. Інші  заходи, пов'язані з економічною діяльністю підприємства",null,null,{"$f":"F105","v":"Бюджет Криво-різької міської територіальної громади "},3414,0,0,0,0,0,{"$f":"SUM(G106:L106)","v":3414}]
[null,null,"6.4. Фінансова підтримка","2020, 2021",null,{"$f":"F105","v":"Бюджет Криво-різької міської територіальної громади "},2980,0,0,0,0,0,{"$f":"SUM(G107:L107)","v":2980}]
[null,null,"6.5. Заходи з енергозбере-ження (вико-нання робіт з будівництва, реконструкції, капітального ремонту коте-лень та тепло-вих мереж) ",2023,null,"Бюджет Криворізької міської територіальної громади ",4700,0,5000,0,0,10000,{"$f":"SUM(G108:L108)","v":19700},"Забезпечення безперервної господарської діяльності підприємства"]
[null,null,"6.6. Погашення заборгованості за спожитий природний газ",2024,null,"Бюджет Криворізької міської територіальної громади ",0,3753.14,0,0,0,0,3753.14]
["Усього",null,null,null,null,{"$f":"F108","v":"Бюджет Криворізької міської територіальної громади "},14363,{"$f":"SUM(H103:H109)","v":5253.1399999999994},{"$f":"SUM(I103:I109)","v":5028},{"$f":"SUM(J103:J109)","v":0},{"$f":"SUM(K103:K109)","v":0},0,24644.14]
[7,"Заходи,  пов’язані з економіч-ною дія-льністю  Комуналь-ного  під-приємст-ва  «Сансер-віс» Криворізь-кої міської ради"," Заходи, пов'я-зані з реалі-зацією проєкту «Нове будівниц-тво комплексу з перероблення, знешкодження та складування твердих побутових відходів у Металургійно- му районі міста Кривого Рогу Дніпропет-ровської області» ","2020-2022","Департамент розвитку інф-раструктури міста виконкому Криворізької міської ради,  Комунальне підприємство «Сансервіс» Криворізької міської ради - одержувач коштів",{"$f":"F110","v":"Бюджет Криворізької міської територіальної громади "},10487.73,0,0,0,0,0,{"$f":"SUM(G111:L112)","v":10487.73}]
[]
[8,"Заходи, пов'язані з попере-дженням і ліквіда-цією наслідків збройної агресії Російсь-кої Федерації"," Заходи, пов'язані з попереджен- ням і ліквіда-цією наслідків збройної агресії Російської Федерації","2023-2028","Департамент розвитку інф-раструктури міста виконкому Криворізької міської ради - головний розпорядник коштів, одержувачі коштів","Бюджет Криворізької міської територіальної громади ",60000,{"$f":"90000+30000+80000","v":200000},{"$f":"90000+30000+80000","v":200000},200000,200000,200000,{"$f":"SUM(G113:L113)","v":1060000}]
[null,null,null,null,null,"Субвенція з бюджету Криворізької міської територіальної громади бюджетам районів у місті на ліквідацію наслідків збройної агресії Російської Федерацїї, пов’язаних  з пошкодже-нням/знище-нням об’єктів житлового фонду",0,0,100000,0,0,0,{"$f":"G114+H114+I114+J114+K114+L114","v":100000}]
[]
[9,"Розвиток та утри-мання житлово-комуналь-ного господар-ства міста","Заходи для забезпечення сталого розвитку та утримання житлово-комунального господарства міста",2023,"Департамент розвитку інф-раструктури міста виконкому Криворізької міської ради Виконком Криворізької міської ради",null,null,null,null,null,null,null,{"$f":"SUM(G116:L116)","v":0}]
[10,"Заходи,  пов’язані з енерго-збережен-ням міста","Заходи,  пов’язані з енергозбере-женням міста (розроблення схеми теплопостачання міста)",2024,"Департамент розвитку інф-раструктури міста виконкому Криворізької міської ради ","Бюджет Криворізької міської територіальної громади",0,5000,2763.56,0,0,0,{"$f":"H117+I117+J117+K117+L117","v":7763.5599999999995},"Оптимізація системи теплопостачання. Зменшення споживання енергоресурсів. Забезпечення оптимального  поєднання централізованої системи теплопостачання"]
["Усього за Програмою, у тому числі:",null,null,null,null,null,3982939.26,{"$f":"H119+H120+H126+H124+H128+H130","v":1234421.1400000001},{"$f":"I119+I120+I126+I124+I128+I130","v":1382374.86},{"$f":"J119+J120+J126+J124+J128+J130","v":944929},{"$f":"K119+K120+K126+K124+K128+K130","v":1020364},{"$f":"L119+L120+L126+L124+L128+L130","v":1147780},{"$f":"M119+M120+M122+M124+M128+M130","v":9602808.2600000016}]
[null,null,null,null,null,"Бюджет Криворізької міської територіальної громади ",3558047.76,{"$f":"H28+H50+H60+H93+H102+H110+H111+H113+H116+H117","v":934421.14},933591.56,944929,1020364,1147780,8529133.4600000009]
[null,null,null,null,null,"Власні надходження",15601.5,{"$f":"H29+H51+H116","v":0},{"$f":"I29+I51+I116","v":0},{"$f":"J29+J51+J116","v":0},{"$f":"K29+K51+K116","v":0},{"$f":"L29+L51+L116","v":0},{"$f":"SUM(G120:L120)","v":15601.5}]
[null,null,null,null,null,"Субвенція з обласного бюджету бюджетам міст, районів та об’єдна-нням "]
[null,null,null,null,null,"територіаль-них   громад на виконання доручень виборців депутатами обласної ради",7290,{"$f":"H30","v":"*"},{"$f":"I30","v":"*"},{"$f":"J30","v":"*"},"*","*",{"$f":"SUM(G122:L123)","v":7290}]
[]
[null,null,null,null,null,"Субвенція з державного бюджету місцевим бюджетам на здійснення заходів щодо підтримки територій, що зазнали негативного  впливу внаслідок  збройного конфлікту на сході України",2000,0,0,0,0,0,{"$f":"SUM(G124:L125)","v":2000}]
[]
[null,null,null,null,null,"Субвенція з обласного бюджету до місцевих бюджетів на фінансування  переможців обласного конкурсу мік-ропроєктів з енергоефек-тивності та енергозбере-ження серед  органів самоорганіза-ції населення та ОСББ",0,0,0,0,0,0,{"$f":"SUM(G126:L127)","v":0}]
[]
[null,null,null,null,null,"Субвенція з обласного бюджету для здійснення заходів,   у тому числі з енергозбере-ження, на об'єк-тах теплопоста-чання комунальної власності міста Кривого Рогу в умовах збройної агре-сії Російської Федерації проти України",300000,{"$f":"H78","v":300000},348783.3,0,0,0,{"$f":"SUM(G128:L129)","v":948783.3}]
[]
[null,null,null,null,null,"Субвенція з обласного бюджету до бюджету Криворізької міської територіальної громади для здійснення заходів із забезпечення  міста Кривого Рогу водопостачан-ням в умовах збройної агре-сії Російської Федерації проти України",0,0,100000,0,0,0,100000]
[]
[]
["В.о керуючої справами виконкому -         "]
["заступник міського голови                                                     ",null,null,null,null,null,null,"                                                                         Надія ПОДОПЛЄЛОВА"]
[]
[null,null,null,null,null,"   "]

{"sheet":"Б-т 2025","index":1,"n_rows":273,"n_cols":19,"rows_kept":273,"cut":false,"hidden":false,"merged":[[266,11,268,11],[253,17,254,17],[253,18,254,18],[253,16,254,16],[257,17,258,17],[259,5,260,5],[259,10,260,10],[259,11,262,11],[243,0,243,15],[246,0,246,15],[253,11,254,12],[253,10,254,10],[256,11,257,11],[253,5,254,5],[234,0,242,0],[185,0,185,15],[186,0,189,0],[191,0,191,15],[192,0,193,0],[195,0,195,15],[196,0,202,0],[204,0,204,15],[205,0,221,0],[223,0,223,15],[224,0,228,0],[233,0,233,15],[182,0,182,15],[149,0,149,15],[152,0,152,15],[153,0,155,0],[157,0,157,15],[162,0,162,6],[163,0,168,0],[170,0,170,6],[172,0,172,6],[173,0,175,0],[176,0,176,6],[179,0,179,15],[65,13,69,13],[127,0,148,0],[65,15,69,15],[70,0,82,0],[85,0,85,15],[86,0,106,0],[97,9,100,9],[102,9,106,9],[102,13,106,13],[102,15,106,15],[110,0,110,15],[111,0,112,0],[114,0,114,15],[115,0,124,0],[126,0,126,6],[270,11,271,11],[26,0,26,15],[0,0,0,15],[7,0,7,15],[8,0,8,15],[16,0,16,15],[17,0,22,0],[27,0,30,0],[32,0,32,15],[33,0,36,0],[38,0,38,15],[39,0,69,0],[60,9,64,9],[60,13,64,13],[60,15,64,15],[65,9,69,9]]}
["Показники видатків на 2025 -2027 роки за головним розпорядником департамент розвитку інфраструктури міста "]
[null,null,null,null,null,null,null,null,null,null,null,null,null,null,null,"19.06.2024"]
["№             п/п","КПКВКМБ","Найменування",null,"Затверджено на 2024  рік ","План на 2024  рік з урахуванням змін станом на 01.10.2024","Касові видатки           станом на 01.09.2024","Залишок бюджетних призначень до кінця року","Прогноз на 2025 на рівні планових призначень 2024 року","Примітка","Проект на 2025 з урахуванням індексу цін виробника 111,1 %","Проект на 2026 з урахуванням індексу цін виробника 112,4 %","Проект на 2027 з урахуванням індексу цін виробника 107,8 %","Примітка","Прогноз на 2025 з урахуванням реальної потреби","Примітка"]
[1,2,3,null,4,5,6,5]
[null,null,"Усього за галуззю, у тому числі:",null,{"$f":"E6+E7","v":1800035288},{"$f":"F6+F7","v":2494444395},{"$error":"#REF!"},{"$error":"#REF!"},{"$error":"#REF!"},null,2123694627,1708396700,1765352500,null,{"$error":"#REF!"}]
[null,null,"Загальний фонд усього",null,{"$f":"E16+E26+E38+E85+E110+E126+E152+E157+E114+E32+E159","v":1496700170},1766145084.28,{"$error":"#REF!"},{"$error":"#REF!"},{"$error":"#REF!"},0,1701192200,1684822100,1745661300,null,{"$f":"O16+O26+O38+O85+O110+#REF!+O126+O152+O157+O114+O32","v":{"$error":"#REF!"}},null,{"$f":"N6-K6","v":-1701192200}]
[null,null,"спеціальний фонд усього",null,{"$f":"E182+E191+E195+E204+E223+E233+E243+E246+E249+E185","v":303335118},{"$f":"F182+F191+F195+F204+F223+F233+F243+F246+F249+F185","v":728299310.72000003},69962106.140000001,650823171.44999993,508312257,{"$error":"#VALUE!"},422502427,{"$f":"L182+L191+L195+L204+L223+L233+L243+L246+M250+L185","v":23574600},19691200,null,{"$f":"O182+O191+O195+O204+O223+O233+O243+#REF!+O246+O249","v":{"$error":"#REF!"}}]
["Загальний фонд:",null,null,null,null,null,null,null,null,null,null,null,null,null,null,null,{"$f":"1684822100","v":1684822100},{"$f":"1745661300","v":1745661300}]
["1213242 \"Інші заходи у сфері соціального захисту і соціального забезпечення\""]
["1.","1.1.","Організація поховання одиноких громадян, осіб без певного місця проживання, осіб, від поховання яких відмовилися рідні, знайдених, невпізнаних трупів, у разі відсутності родичів. Одержувач коштів \"Ритуал Сервіс Плюс\"  ",2610,{"$f":"E11+E12+E13+E14+E15","v":2286893},{"$f":"F11+F12+F13+F14+F15","v":2286893},{"$f":"G11+G12+G13+G14+G15","v":1138664.3700000001},{"$f":"F10-G10","v":1148228.6299999999},{"$f":"I11+I12+I13+I14+I15","v":2286893},"2022 - 431 од. ; 2023 - 381 од. ; 2024 - 440 од., 2025 - 322 од. Факт на 16.06.2024 - 198 тіл",{"$f":"K11+K12+K13+K14+K15","v":2300000},{"$f":"L11+L12+L13+L14+L15","v":2457693},{"$f":"M11+M12+M13+M14+M15","v":2569187},null,{"$f":"O11+O12+O13+O14+O15","v":2821134},"430 од.",{"$f":"L6-Q8","v":0},{"$f":"264340+1888382+1449937+2015829+916219+687960+6212856+3771900+1220000","v":18427423}]
[null,null,"оплата праці",null,757958,{"$f":"493133+305964","v":799097},503274.41,295822.59000000003,{"$f":"522552+318171","v":840723},null,{"$f":"524683+318171","v":842854},{"$f":"524683+318171","v":842854},{"$f":"524683+318171","v":842854},null,{"$f":"526814+318171","v":844985}]
[null,null,"нарахування на оплату праці",null,166751,175802,110720.36,65081.64,{"$f":"184960","v":184960},null,{"$f":"185430","v":185430},{"$f":"185430","v":185430},{"$f":"185430","v":185430},null,{"$f":"185897","v":185897}]
[null,null,"Предмети, матеріали, обладнання та інвентар (предмети ритальної належності)",null,329442,311917,84202.8,227714.2,256674,null,310522,349027,376251,null,343720,null,null,{"$f":"M6-R8","v":0}]
[null,null,"Продукти харчування (молоко)",null,5227,5227,2116.8000000000002,3110.2,3736,null,4558,5123,5523,null,5380]
[null,null,"Оплата послуг (крім комунальних) послуга з механізованого копання та закопування могил екскаватором, послуга з перевезення трун з тілами померлих окремої категорії громадян маловантажним автотранспортним засобом  з робітниками ритуальних послуг, які здійснюють поховання померлих  ",null,1027515,994850,{"$f":"364500+73850","v":438350},556500,1000800,null,{"$f":"719019+501957-264340","v":956636},1075259,1159129,null,1441152]
[null,null,"Всього",null,{"$f":"E10","v":2286893},{"$f":"F10","v":2286893},{"$f":"G10","v":1138664.3700000001},1148228.6299999999,2286893,null,2300000,2457693,2569187,null,2821134]
["1216011 \"Експлуатація та технічне обслуговування житлового фонду\""]
["2.","2.1.","Заміна адресних вивісок в т.ч.",null,{"$f":"83000+67000","v":150000},{"$f":"F19+F20","v":332293.59999999998},{"$f":"G19+G20","v":113493.6},{"$f":"F18-G18","v":218799.99999999997},0,null,{"$f":"K19+K20","v":500000},{"$f":"L19+L20","v":0},{"$f":"M19+M20","v":0},null,0]
[null,"2.1.1.","Придбання адресних вивісок","2210",67000,113493.6,113493.6,0,0,null,200000,0,0,null,0]
[null,"2.1.2.","Встановлення адресних вивісок","2240",83000,{"$f":"299200-80400","v":218800},0,218800,0,null,300000,0,0,null,0]
[null,"2.2","Поточний ремонт конструктивних елементів (укосів) об'єктів житлового фонду, пов'язаний з ліквідацією наслідків збройної агресії Російської Федерації проти України (одержувачі - ОСББ, управителі) УКОСИ",2610,23500000,19549467.379999999,{"$f":"#REF!+#REF!+#REF!+#REF!+#REF!+#REF!+#REF!+#REF!+#REF!+#REF!+#REF!+#REF!+#REF!+#REF!","v":{"$error":"#REF!"}},{"$error":"#REF!"},{"$f":"#REF!+#REF!+#REF!+#REF!+#REF!+#REF!+#REF!+#REF!+#REF!+#REF!+#REF!+#REF!+#REF!+#REF!","v":{"$error":"#REF!"}},null,20000000,0,0,null,{"$f":"#REF!+#REF!+#REF!+#REF!+#REF!+#REF!+#REF!+#REF!+#REF!+#REF!+#REF!+#REF!+#REF!+#REF!","v":{"$error":"#REF!"}}]
[null,"2.3","Заходи (ремонтні роботи) з усунення аварій в житловому фонді (Одержувач ТОВ «Сітісервіс-КР», ТОВ \"Уют\") ",2610,0,862947.19,{"$f":"#REF!+#REF!","v":{"$error":"#REF!"}},{"$error":"#REF!"},{"$f":"#REF!+#REF!","v":{"$error":"#REF!"}},null,0,0,0,null,{"$f":"#REF!+#REF!","v":{"$error":"#REF!"}}]
[null,"2.4","Заходи (ремонтні роботи) з усунення аварій в житловому фонді, пов'язаних з  пов'язаних з ліквідацією наслідків збройної агресії  Російської Федерації проти України ЗАМІНА ВІКОН, РЕМОНТ ПОКРІВЛІ",2610,0,21378632.460000001,{"$f":"#REF!+#REF!+#REF!+#REF!+#REF!+#REF!+#REF!+#REF!+#REF!+#REF!+#REF!+#REF!+#REF!","v":{"$error":"#REF!"}},{"$error":"#REF!"},{"$f":"#REF!+#REF!+#REF!+#REF!+#REF!+#REF!+#REF!+#REF!+#REF!+#REF!","v":{"$error":"#REF!"}},null,0,0,0,null,{"$f":"#REF!+#REF!+#REF!+#REF!+#REF!+#REF!+#REF!+#REF!+#REF!+#REF!","v":{"$error":"#REF!"}}]
[null,"5","Обстеження об’єктів житлового фонду у зв’язку з пошкодженням внаслідок позапроектних впливів",null,{"$f":"E25","v":0},{"$f":"F25","v":99000},98826.58,173.41999999999825,0,null,0,0,0,null,0]
[null,"5.1"," ОСББ \"Астра-6\" (взрив газу по вул. 21-ї бригади Національної гвардії, буд.6. )",2610,null,99000,98826.58,{"$f":"F25-G25","v":173.41999999999825},0,null,0,null,null,null,0]
[null,null,"Всього",null,{"$f":"E18+E21+E22+E23+E24","v":23650000},{"$f":"F18+F21+F22+F23+F24","v":42222340.630000003},{"$f":"G18+G21+G22+G23+G24","v":{"$error":"#REF!"}},{"$f":"H18+H21+H22+H23+H24","v":{"$error":"#REF!"}},{"$f":"I18+I21+I22+I23+I24","v":{"$error":"#REF!"}},null,{"$f":"K18+K21+K22+K23+K24","v":20500000},{"$f":"L18+L21+L22+L23+L24","v":0},{"$f":"M18+M21+M22+M23+M24","v":0},null,{"$f":"O18+O21+O22+O23+O24","v":{"$error":"#REF!"}}]
["1216012 \"Забезпечення діяльності з виробництва, транспортування, постачання теплової енергії\""]
[3,"3.1"," Оплата енергоносіїв (електроенергія) (КПТМ \"Криворіжтепломережа\")",2610,0,20000000,20000000,{"$f":"F28-G28","v":0},20000000,null,{"$f":"30000000-30000000","v":0},0,0,null,52200000]
[null,"3.2"," Оплата водопостачання та водовідведенн (КПТМ \"Криворіжтепломережа\")",2610,0,0,0,{"$f":"F29-G29","v":0},0,null,0,0,0,null,10000000]
[null,"3.3","Погашення заборгованості за спожитий природний газ (КП «Кривбастеплоенерго» КМР)",2610,0,3753135,3753134.23,{"$f":"F30-G30","v":0.77000000001862645},0,null,0,0,0,null,0]
[null,"3.4","Придбання матеріалів для  виконання ремонтів теплових мереж КПТМ \"Криворіжтепломережа\")",null,0,0,0,0,null,null,0,0,0]
[null,null,"Всього",null,{"$f":"E28+E30+E29","v":0},{"$f":"F28+F30+F29","v":23753135},23753134.23,0.77000000001862645,20000000,null,{"$f":"K28+K29+K30+K31","v":0},{"$f":"L28+L29+L30+L31","v":0},{"$f":"M28+M29+M30+M31","v":0},null,62200000]
["1216013 \"Забезпечення діяльності водопровідно-каналізаційного господарства\""]
["4.","4.1","Придбання пожежних гідрантів   КП \"Кривбасводоканал\"",2610,1125000,{"$f":"1125000+1199754","v":2324754},1124754,{"$f":"F34-G34","v":1200000},1251000,"2024 р - 70 од.; 2025 - 70 од.",1250000,{"$f":"K34*1.124","v":1405000.0000000002},{"$f":"L34*1.078","v":1514590.0000000002},null,1251000,"2025 - 70 од."]
[null,"4.2","Придбання кришки люків  КП \"Кривбасводоканал\"",2610,559806,{"$f":"559806-27486","v":532320},532320,{"$f":"F35-G35","v":0},622505,"2024 р - 308 од.; 2025 - 308 од.",622000,{"$f":"K35*1.124","v":699128.00000000012},753660,null,622505,"2025 - 308 од."]
[null,"4.3"," Оплата енергоносіїв (електроенергія)  КП \"Кривбасводоканал\" ",2610,0,{"$f":"20000000+7000000","v":27000000},20000000,{"$f":"F36-G36","v":7000000},6000000,null,0,{"$f":"30000000-30000000","v":0},{"$f":"30000000-30000000","v":0},null,20000000]
[null,"4.4","Придбання насосних агрегатів",2610,0,1719051,0,{"$f":"F37-G37","v":1719051},null,null,0,0,0]
[null,null,"Всього по КП \"Кривбасводоканал\"",null,{"$f":"E34+E35+E36+E37","v":1684806},{"$f":"F34+F35+F36+F37","v":31576125},{"$f":"G34+G35+G36+G37","v":21657074},{"$f":"H34+H35+H36+H37","v":9919051},{"$f":"I34+I35+I36","v":7873505},null,1872000,2104128.0000000005,2268250,null,21873505]
["КПКВК 1216030 \"Організація благоустрою населених пунктів\""]
[5,"5.1.","Вуличне освітлення та зовнішні електромережі",null,{"$f":"E41+E42+E43+E44+E45+E46+E47","v":137260000},{"$f":"F41+F42+F43+F44+F45+F46+F47","v":135591697.59999999},{"$f":"G41+G42+G43+G44+G45+G46+G47","v":76828350.400000006},{"$f":"H41+H42+H43+H44+H45+H46+H47","v":58763347.200000003},{"$f":"I41+I42+I43+I44+I45+I46+I47","v":136958800},null,{"$f":"K41+K42+K43+K44+K45+K46+K47","v":163545800},{"$f":"L41+L42+L43+L44+L45+L46+L47","v":183825479.00000003},{"$f":"M41+M42+M43+M44+M45+M46+M47","v":198163867},null,{"$f":"O41+O42+O43+O44+O45+O46+O47","v":203192386}]
[null,"5.1.1.","Поточна електроенергія",2273,63800000,63800000,{"$f":"8222380.62+4518630.4+4241397.38+3246570.99-5192.55+4420522.8+3217520.21","v":27861829.850000001},{"$f":"F41-G41","v":35938170.149999999},63800000," 5 586 371 кВт;",87140000,{"$f":"K41*1.124","v":97945360.000000015},105585098,null,115348586,"  10 100 000 кВт (за умови, що тариф на електричну енергію буде становити 9,0 грн. з ПДВ + середній тариф на розподіл -2,420652 грн. з ПДВ)"]
[null,"5.1.2.","Утримання мереж зовнішнього освітлення",2240,53100000,52900000,36426958.799999997,{"$f":"F42-G42","v":16473041.200000003},52900000,"лампи - 9000 од., світильники - 6000од., кабель - 42 км",{"$f":"58771900-3771900","v":55000000},{"$f":"K42*1.124","v":61820000.000000007},{"$f":"L42*1.078","v":66641960.000000015},null,63480000,"лампи - 10000 од., світильники - 6500од., кабель - 50 км",{"$f":"F42*1.112","v":58824800.000000007},{"$f":"F42*1.111","v":58771900}]
[null,"5.1.3.","Поточний ремонт мереж зовнішнього освітлення",2240,20000000,{"$f":"20000000-1363738.4","v":18636261.600000001},12432351.6,6203910.0000000019,20000000,"світильники - 700од, опори - 60 од, кабель - 13км",{"$f":"22220000-1220000","v":21000000},{"$f":"K43*1.124","v":23604000.000000004},{"$f":"L43*1.078","v":25445112.000000007},null,{"$f":"24000000","v":24000000},"світильники - 900од, опори - 70 од, кабель - 16км"]
[null,"5.1.4.","Ремонт засобів обліку електричної енергії",2240,30000,0,0,0,0,null,0,{"$f":"K44*1.124","v":0},{"$f":"L44*1.078","v":0},null,0]
[null,"5.1.5.","Повірка, технічна перевірка засобів обліку електричної енергії",2240,140000,68000,14774.15,53225.85,68800,34,68800,77331,{"$f":"83363","v":83363},null,68800,34]
[null,"5.1.6.","Послуги з прийому, перевезення та подальшої утилізації небезпечних відходів (відпрацьовані лампи, що містять ртутне наповнення) ",2240,95000,95000,0,95000,95000,6300,95000,106780.00000000001,115109,null,95000,6300]
[null,"5.1.7.","Придбання засобів обліку електричної енергії",2210,95000,{"$f":"95000-2564","v":92436},92436,0,95000,22,{"$f":"95000*1.111+136455","v":242000},272008,293225,null,200000,45]
[null,"5.2","Водопостачання та водовідведення на кладовищах міста",2272,215418,215418,{"$f":"25555.2+22935.79+46181.34","v":94672.33},120745.67,215408,"Зменшення обсягів з 13 487,22 м3  до  7 320 м3 (планується підвищення тарифу з 15,972 грн до 29,424 грн)",396848,446057,480850,null,396848,"18 кладовищ                                                                         (2022 рік: план - 11988,6 м3, факт - 11531 м3;    2023 рік: план - 16184,6 м3, факт - 9684 м3; 2024 рік: план - 13487,22 м3)"]
[null,"5.3","Енергозабезпечення об'єктів (елементів) благоустрою (МАФ «В’їзний знак «Кривий Ріг» на в’їзді в місто з боку міста Кіровоград»)",2273,289000,289000,0,289000,0,null,{"$f":"102670","v":102670},115401,124402,null,0]
[null,"5.4","Поточний ремонт інших об'єктів (елементів) благоустрою",2240,1075396,650157.13,0,650157.13,1000000,null,100000,112400.00000000001,121167,null,1000000,"поточний ремонт сонячного дерева, вїзного знаку, памятників, біотуалетів, лав"]
[null,"5.5","Утримання об'єктів (елементів) благоустрою (біотуалетів)",2240,25000000,24909963,14857009.58,10052953.42,24632429,"86 раз (70 біотуалетів) кожні пять днів",{"$f":"26346197+3192487-3192487","v":26346197},29613125,31922949,null,26346197,"92 рази (70 біотуалетів) кожні чотири  дні"]
[null,"5.6","Утримання кладовищ",2240,38568688,{"$f":"38568688+2500000","v":41068688},28475610.079999998,12593077.920000002,38568688,"                            37 од.                                       (зменшення обємів:                                                                  -  перенесення сміття з ділянок поховань - на 800 м3 (2024 рік - 5300 м3);                                                                             - прибирання 81 вбиральні - на 2 рази (2024 рік - 29 разів);                                                                         - очищення 50 контейнерів - на 12 раз (2024 рік - 120 раз);                                                                             - очищення братських могил - на 2 рази (2024 рік - 14 разів);                                                                          - знесення дерев - на 170 шт (2024 рік  - 1120 шт);                                                                             - видалення порослі - на 8 700 шт. (2024 рік - 43 500 шт)                                                                             - очищення від снігу та посипання протиожеледними матеріалами (2024 рік - 3000 м2).",41000000,{"$f":"K52*1.124","v":46084000.000000007},{"$f":"L52*1.078","v":49678552.000000015},null,{"$f":"F52*1.112+0.94","v":45668381.995999999},"37 од.                                                                                      (вивезення міття - 28000 м3)"]
[null,"5.7","Охорона кладовищ",2240,15019428,14837910,9125850,5712060,14833800,"13 од.                                               (зменшення годин охорони у сявткові дні на 3 год,  у робочі дні  та суботу - на 2 год.,           у неділю - на 1 год.)",16601604,18660203,20115699,null,16601604,"13 од.                                                                        (режим роботи охорони: будні з 16.00-09.00; субота з 14.00-09.00, неділя - 09.00-09.00; по 2 охоронці на 11 кладовищах, Західне - 3 охор., Центральне - 5 охор.)"]
[null,"5.8","Поточний ремонт контейнерних систем для розміщення контейнерів для збору твердих побутових відходів",2240,1631000,1631000,1553448,77552,1631000," 2024 р. -100 од. 2025 - 90 од.",{"$f":"1631000+869000","v":2500000},{"$f":"K54*1.124","v":2810000.0000000005},{"$f":"L54*1.078","v":3029180.0000000005},null,{"$f":"I54*1.112","v":1813672.0000000002},"100 од."]
[null,"5.9","Електроенергія на утримання ДНС (ДРІМ - головний розпорядник)",2273,2326000,2326000,1184009.28,1141990.72,2326000,null,2326000,{"$f":"K55*1.124","v":2614424.0000000005},2818349,null,{"$f":"I55*8%+2326000","v":2512080},"збільшено на 8%"]
[null,"5.10","Заходи, пов'язані з утриманням об'єктів (елементів) благоустрою КП \"Кривбасводоканал\" (утримання ДНС, поточний ремонт ДНС)",2610,4438171,4438171,{"$f":"G57+G58+G60","v":1695977.45},2742193.55,{"$f":"I57+I58+I60","v":4438171},null,{"$f":"K57+K58+K60","v":2000000},{"$f":"L57+L58+L60","v":3000000},{"$f":"M57+M58+M60","v":3200000},null,{"$f":"O57+O58+O60","v":4438171}]
[null,null,"оплата праці",null,2417980,2417980,914170.86,1503809.1400000001,{"$f":"2221583+196397","v":2417980},null,1639345,1639345,1639345,null,{"$f":"2221583+196397","v":2417980}]
[null,null,"нарахування на оплату праці",null,531956,531956,194827.87,337128.13,531956,null,360655,360655,360655,null,531956]
[null,null,"Оплата комунальних послуг та енергоносіїв",null,null,null,null,0]
[null,null,"інші видатки",null,1488235,1488235,586978.72,901256.28,{"$f":"1263161+225074","v":1488235},null,0,1000000,1200000,null,{"$f":"1263161+225074","v":1488235}]
[null,"5.11","Заходи у сфері благоустрою (КП \"Парк культури і відпочинку ім. Б.Хмельницького\" КМР)",2610,{"$f":"E62+E63+E64+E65","v":38018184},{"$f":"F62+F63+F64+F65","v":38018184},{"$f":"G62+G63+G64+G65","v":22567981.34},15450202.66,{"$f":"I62+I63+I64+I65","v":37998184},"Збільшення заробітної плати з нарахуванням згідно норм  прожиткового мінімуму для працездатних осіб та застосування коефіцієнта згідно з галузевою угодою на 2023-2027 роки *не менше 200 % (було 180%) . Енергоносії на рівні видатків 2024 року, згідно листа МФУ. При цьому зменшено видатки на утримання об\"єктів (елементів) благоустрою у сумі 6,52 млн.грн. (було 10,0 млн.грн.)",{"$f":"K62+K63+K64+K65","v":44255387},{"$f":"L62+L63+L64+L65","v":47998289},{"$f":"M62+M63+M64+M65","v":50644642},null,{"$f":"O62+O63+O64+O65","v":47002680},"Збільшення заробітної плати з нарахуванням згідно норм прожиткового мінімуму для працездатних осіб та застосування коефіцієнта згідно з галузевою угодою на 2023-2027 роки *не менше 200 % (було 180%) . А також збільшено штатну чисельність на 6 од. (із них 5 озеленювачів, 1 майстер) Енергоносії збільшено до потреби у зв\"язку з передачею на баланс обєктів (елементів) благоустрою. Відповідно до потреби видатки на утримання об\"єктів (елементів) благоустрою у сумі 10,0 млн.грн."]
[null,null,"оплата праці",null,9353090,9353090,5378081.6200000001,3975008.38,11090040,null,11533351,11533351,11533351,null,12779283]
[null,null,"нарахування на оплату праці",null,2057681,2057681,1199366.05,858314.95,2439810,null,2537339,2537339,2537339,null,2811443]
[null,null,"Оплата комунальних послуг та енергоносіїв",null,1335250,1335250,873391.17,461858.82999999996,{"$f":"127188+744974+463088","v":1335250},null,{"$f":"192456+1100476+463088+338715","v":2094735},2354482,2538132,null,{"$f":"192456+1100476+463088","v":1756020}]
[null,null,"інші видатки",null,25272163,25272163,15117142.5,10155020.5,{"$f":"4042084+19028630+14670+43700+4000","v":23133084},null,{"$f":"29655934+523953+36240-1176640-523953-425572","v":28089962},31573117,34035820,null,{"$f":"4042084+25551480+14670+43700+4000","v":29655934}]
[null,"5.12","Заходи у сфері благоустрою (КП \"Сансервіс\" КМР)",2610,{"$f":"SUM(E67:E70)","v":137947182},{"$f":"F67+F68+F69+F70","v":137947182},{"$f":"G67+G68+G69+G70","v":78814432.200000003},59132749.799999997,{"$f":"I67+I68+I69+I70","v":137947182},"Збільшення заробітної плати з нарахуванням згідно норм  прожиткового мінімуму для працездатних осіб та застосування коефіцієнта згідно з галузевою угодою на 2023-2027 роки *не менше 200 % (було 180%) . Енергоносії на рівні видатків 2024 року, згідно листа МФУ.",{"$f":"K67+K68+K69+K70","v":139809393},{"$f":"L67+L68+L69+L70","v":145910122},{"$f":"M67+M68+M69+M70","v":150223534},null,{"$f":"O67+O68+O69+O70","v":146981192},"Збільшення заробітної плати з нарахуванням згідно норм  прожиткового мінімуму для працездатних осіб та застосування коефіцієнта згідно з галузевою угодою на 2023-2027 роки *не менше 200 % (було 180%) . Енергоносії (е/е, вода) збільшено у зв\"язку з відновленням роботи фонтану.Збільшення видатків на придбання лавок , урн, контейнерів для сміття. Придбання матеріалів для виконання ремонтно будівельних робіт на територіях дільниць озеленення в районах міста. Послуги з поточного ремонту адмін будівель КП \"Сансервіс\" 4,3 млн.грн. Проведення інвентаризація та паспортизиції об\"єктів благоустрою. Придбання спецодягу.  "]
[null,null,"оплата праці",null,66535016,66535016,38365124.770000003,28169891.229999997,75408068,null,{"$f":"76646207-2375738","v":74270469},{"$f":"76646207-2375738","v":74270469},{"$f":"76646207-2375738","v":74270469},null,{"$f":"68528383","v":68528383}]
[null,null,"нарахування на оплату праці",null,14637704,14637704,8480382.7799999993,6157321.2200000007,16589775,null,{"$f":"16862165-522662","v":16339503},{"$f":"16862165-522662","v":16339503},{"$f":"16862165-522662","v":16339503},null,{"$f":"15076244","v":15076244}]
[null,null,"оплата комунальних послуг та енергоносіїв",null,5086841,5086841,2015012.11,3071828.8899999997,4915619,null,4915619,5525156,5956118,null,4245193]
[null,null,"інші видатки",null,{"$f":"51687621","v":51687621},51687621,29953912.539999999,21733708.460000001,41033720,null,{"$f":"147237352-K67-K68-K69+60920+190362+216526-547940+46620-2918400-4476047","v":44283802},49774994,53657444,null,59131372]
[null,"5.13","Поточний ремонт вулиць і доріг комунальної власності міста",2240,700000000,820000000,362626636.80000001,{"$f":"F71-G71","v":457373363.19999999},800000000,136600,800000000,{"$f":"800000000-53382800-773267-1000000-233096+1000000+5101","v":745615938},{"$f":"800000000-21196419-1200000-287167-250731+1000000+65731","v":778131414},null,984000000,164000]
[null,"5.14","Утримання автошляхів міста",2240,250000000,304000000,175905308.40000001,{"$f":"F72-G72","v":128094691.59999999},300000000,211,300000000,300000000,300000000,null,300000000,211]
[null,"5.15","Утримання світлофорних об'єктів",2240,4000000,4000000,2633092.7999999998,1366907.2000000002,4000000,135,{"$f":"4448000+1500000-136455-811545","v":5000000},{"$f":"K73*1.124","v":5620000.0000000009},{"$f":"L73*1.078","v":6058360.0000000009},null,4800000,135]
[null,"5.16","Поточний ремонт світлофорних об'єктів",2240,7000000,{"$f":"7000000-297000-3788399.08","v":2914600.92},643351.19999999995,2271249.7199999997,7000000,12,{"$f":"5000000-1500000-869000+811545","v":3442545},3869421,4171235,null,7000000,12]
[null,"5.17","Поточний ремонт мостів та шляхопроводів (ДРІМ)",2240,10000000,{"$f":"10000000-7100000+7100000-8207055.88","v":1792944.12},1277197.3400000001,515746.78,10000000,2,10000000,10000000,10000000,null,15000000,3]
[null,"5.18","Проведення технічної перевірки засобів обліку електричної енергії на світлофорних об’єктах ",2240,0,30000,5289.44,24710.560000000001,30000,15,30000,33720,36350,null,30000,15]
[null,"5.19","Приєднанння до електричних мереж світлофорних об'єктів",2240,0,30000,0,30000,30000,3,30000,33720,36350,null,30000,3]
[null,"5.20","Послуги з експертного обстеження стану конструкцій мостів та шляхопроводів ",2240,0,198000,0,198000,198000,4,198000,222552.00000000003,239911,null,237600,4]
[null,"5.21","Послуги з технічного нагляду за поточним ремонтом мостів та шляхопроводів ",2240,0,{"$f":"99000-78585.32","v":20414.679999999993},14593,5821.679999999993,99000,2,99000,111276.00000000001,119956,null,99000,3]
[null,"5.22","Придбання, установлення, утримання, ремонт об'єктів (елементів) вулично-дорожньої мережі (КП \"Парковка та реклама\" КМР)",2610,{"$f":"SUM(E81:E83)","v":20000000},{"$f":"F81+F82+F83","v":19464600},{"$f":"G81+G82+G83","v":9049056.5700000003},10415543.43,{"$f":"I81+I82+I83","v":20000000},null,{"$f":"K81+K82+K83","v":18692562},{"$f":"L81+L82+L83","v":20585554},{"$f":"M81+M82+M83","v":21923960},null,{"$f":"O81+O82+O83","v":21206010}]
[null,"5.22.1","оплата праці",null,2656248,2656248,1220382.95,1435865.05,2808609,null,2808609,2808609,2808609,null,2961801]
[null,"5.22.2","нарахування на оплату праці",null,584371,584371,268484.3,315886.7,617892,null,617892,617892,617892,null,651599]
[null,"5.22.3","інші видатки",null,16759381,{"$f":"16759381-535400","v":16223981},7560189.3200000003,8663791.6799999997,16573499,null,{"$f":"16573499-1307256-182","v":15266061},17159053,18497459,null,17592610]
[null,"5.23","Придбання прапорів для будівництва меморіапльного комплексу в секторі почесних поховань",2210,0,0,0,0,null,null,{"$f":"691313-691313+3353","v":3353},773267,0]
[null,null,"Всього",null,{"$f":"E40+E48+E49+E50+E51+E52+E53+E54+E55+E61+E66+E56+E71+E72+E73+E74+E75+E76+E77+E78+E79+E80+E84","v":1392788467},{"$f":"F40+F48+F49+F50+F51+F52+F53+F54+F55+F61+F66+F56+F71+F72+F73+F74+F75+F76+F77+F78+F79+F80+F84","v":1554373930.45},{"$f":"G40+G48+G49+G50+G51+G52+G53+G54+G55+G61+G66+G56+G71+G72+G73+G74+G75+G76+G77+G78+G79+G80+G84","v":787351866.21000016},{"$f":"H40+H48+H49+H50+H51+H52+H53+H54+H55+H61+H66+H56+H71+H72+H73+H74+H75+H76+H77+H78+H79+H80+H84","v":767022064.23999989},{"$f":"I40+I48+I49+I50+I51+I52+I53+I54+I55+I61+I66+I56","v":400549662},null,{"$f":"K40+K48+K49+K50+K51+K52+K53+K54+K55+K61+K66+K56+K71+K72+K73+K74+K75+K76+K77+K78+K79+K80+K84","v":1576479359},{"$f":"L40+L48+L49+L50+L51+L52+L53+L54+L55+L61+L66+L56+L71+L72+L73+L74+L75+L76+L77+L78+L79+L80+L84","v":1568054948},{"$f":"M40+M48+M49+M50+M51+M52+M53+M54+M55+M61+M66+M56+M71+M72+M73+M74+M75+M76+M77+M78+M79+M80+M84","v":1631240727},null,{"$f":"O40+O48+O49+O50+O51+O52+O53+O54+O55+O61+O66+O56","v":495953211.99599999}]
["1216090 \"Інша діяльність у сфері житлово-комунального господарства\""]
["6.","6.1","Оформлення висновку спеціалізованої організації про можливість (неможливість) подальшої експлуатації основних засобів, інших необоротних матеріальних активів",2240,26000,26000,0,{"$f":"F87-G87","v":26000},5000,null,5000,{"$f":"K87*1.124","v":5620.0000000000009},6058,null,5000]
[null,"6.2","Витрати, пов'язані із поштовими послугами",2240,19300,{"$f":"19300-9300","v":10000},904,{"$f":"F88-G88","v":9096},5000,null,5000,{"$f":"K88*1.124","v":5620.0000000000009},6058,null,5000]
[null,"6.3","Висвітлення діяльності департаменту розвитку інфраструктури міста виконкому Криворізької міської ради в засобах масової інформації",2240,49000,{"$f":"49000-49000","v":0},0,0,0,null,{"$f":"I89*1.112","v":0},0,{"$f":"L89*1.078","v":0},null,{"$f":"I89*1.112","v":0}]
[null,"6.4","Витрати, пов'язані із юридичними послугами",2240,100000,100000,59400,40600,100000,null,110000,123640.00000000001,133284,null,{"$f":"I90*1.112","v":111200.00000000001}]
[null,"6.5","Проведення експертиз",2240,49000,49000,0,49000,49000,null,55000,61820.000000000007,66642,null,{"$f":"I91*1.112","v":54488.000000000007}]
[null,"6.6","Еспертне обстеження, техніко-економічне обгрунтування (бомбосховища)",2240,0,200000,0,200000,0,null,0,0,{"$f":"L92*1.078","v":0},null,0]
[null,"6.7","Послуги з доставки до Криворізького міжрайонного відділу комунального закладу \"Дніпропетровське обласне бюро судово-медичної експертизи \"Дніпропетровської обласної ради\" тіл одиноких громадян, осіб без певного місця проживання, осіб, від поховання яких відмовилися рідні, знайдених, невпізнаних трупів, у разі відсутності родичів або осіб чи установ, які можуть взяти на себе доставку тіл",2240,9860000,9813124.4000000004,5415120,4398004.4000000004,9770398,"2022 рік - 2082 тіл; 2023 - 2048 тіл, 2024 - 2360; 2025- 2200 тіл. Факт за 5 міс. 835 од.",{"$f":"9770398-102670","v":9667728},10866526,11714115,null,10864685,"2 360 тіл"]
[null,"6.8","Оцінка майна",2240,50000,50000,13500,36500,50000,null,50000,56200.000000000007,60584,null,50000]
[null,"6.9","Видатки, пов’язані із судовими процесами, оголошеннями за судовими справами ",2800,67738,67738,9128.8700000000008,58609.13,67738,null,75325,84655,91269,null,75325]
[null,"6.10","Відшкодування коштів за рішенням суду ",2800,368818,{"$f":"368818+513772","v":882590},{"$f":"165118.23","v":165118.23000000001},717471.77,1500000,null,1000000,{"$f":"1000000-1000000","v":0},{"$f":"1000000-1000000","v":0},null,1500000]
[null,"6.11","Сплата земельного податку",2800,188000,188000,22377.52,165622.48000000001,84000,null,84000,94416.000000000015,101780,null,84000]
[null,"6.12","Утримання модульних туалетів  (КП \"Сансервіс КМР\") ",2610,{"$f":"E99+E100+E101","v":2950420},{"$f":"F99+F100+F101","v":2950420},{"$f":"G99+G100+G101","v":1775594.43},1174825.57,{"$f":"I99+I100+I101","v":3159780},"2024 - 12 од.; 2025 - 13 од. Якщо видатки залишити на рівні 2024 року, то потреба навіть більша і тільки на з/п вистачить",{"$f":"K99+K100+K101","v":4141944},{"$f":"L99+L100+L101","v":4182031},{"$f":"M99+M100+M101","v":4219698},null,{"$f":"O99+O100+O101","v":3540083}]
[null,"6.12.1","оплата праці",null,2171520,2171520,1357166.77,814353.23,2589984,null,3021648,3021648,3021648,null,2589984]
[null,"6.12.2","нарахування на оплату праці",null,477731,477731,278150.21999999997,199580.78000000003,569796,null,664762.07999999996,664762,664762,null,569796]
[null,"6.12.3","Оплата комунальних послуг та енергоносіїв",null,301169,301169,140277.44,160891.56,0,null,455533.92,{"$f":"188607+307014","v":495621},533288,null,{"$f":"167864+212439","v":380303}]
[null,"6.13","Заходи поводження з безпритульними тваринами                                                                     (КП \"Центр поводження з  тваринами\" КМР)",2610,{"$f":"SUM(E103:E107)","v":24801379},{"$f":"F103+F104+F105+F106+F107","v":24801379},{"$f":"G103+G104+G105+G106+G107","v":14016973.449999999},10784405.550000001,{"$f":"I103+I104+I105+I106+I107","v":24801379},"2022 - 2728 тварин; 2023 - 3971 тварин; 2024 - 3500 тварин, 2025 - 3500 тварин",{"$f":"K103+K104+K105+K106+K107","v":23942103},{"$f":"L103+L104+L105+L106+L107","v":26690987},{"$f":"M103+M104+M105+M106+M107","v":27007910},null,{"$f":"O103+O104+O105+O106+O107","v":26430411},"3 500 тварин"]
[null,"6.13.1","оплата праці",null,8200735,8200735,4871456.29,3329278.71,{"$f":"9660757","v":9660757},"Збільшення заробітної плати з нарахуванням згідно норм  прожиткового мінімуму для працездатних осіб та застосування коефіцієнта згідно з галузевою угодою на 2023-2027 роки *не менше 200 % (було 180%). Збільшення показників споживанням електричної енергії у 2025 році, зумовлене завершенням поточного ремонту будівлі та облаштуванням місця прийому тварин, запуском додаткових 10 вольєрів, встановлення засобів підігріву води, освітлення, та котла для обігріву. Зменшення видатків на медикаменти, матеріали у зв’язку із зменшенням кількості вольєрів, які планується побудувати у порівнянні з 2024 роком. Зменшення витрат на оренду авто для відлову тварин ",{"$f":"9660757","v":9660757},{"$f":"9660757","v":9660757},{"$f":"9660757","v":9660757},null,{"$f":"9660757","v":9660757},"Збільшення заробітної плати. Збільшення споживанням електричної енергії зумовлене завершенням поточного ремонту будівлі та облаштуванням місця прийому тварин, запуском додаткових 10 вольєрів, встановлення засобів підігріву води, освітлення, та котла для обігріву. Збільшення видатків на медикаменти, витрат на оренду авто для відлову тварин. "]
[null,"6.13.2","нарахування на оплату праці",null,1804162,1804162,1052180.23,751981.77,2125367,null,2125367,2125367,2125367,null,2125367]
[null,"6.13.3","медикаменти та перев'язувальні матеріали",null,3349322,3349322,2004292.34,1345029.66,2935656,null,2581715,3849299,3888215,null,3537959]
[null,"6.13.4","Оплата комунальних послуг та енергоносіїв",null,1641409,1641409,696950.76,944458.23999999999,2717540,null,{"$f":"75149+63333+2812275","v":2950757},2717540,2717540,null,2502959]
[null,"6.13.5","інші видатки",null,9805751,9805751,5392093.8300000001,4413657.17,7362059,null,{"$f":"5359611+2489690+81280-1307256+182","v":6623507},8338024,8616031,null,8603369]
[null,"6.14","Ексгумація трупів",null,0,46875.6,19913.04,26962.559999999998,null,null,0,0,0]
[null,"6.15","Розробка проєкту землеустрою щодо відведення земельної ділянки у постійне користування під об'єкти нерухомості",null,0,99000,0,99000,null,null,0,0,0]
[null,null,"Всього",null,{"$f":"E87+E88+E89+E90+E91+E92+E93+E94+E95+E96+E97+E98+E102+E108+E109","v":38529655},{"$f":"F87+F88+F89+F90+F91+F92+F93+F94+F95+F96+F97+F98+F102+F108+F109","v":39284127},{"$f":"G87+G88+G89+G90+G91+G92+G93+G94+G95+G96+G97+G98+G102+G108+G109","v":21498029.539999999},{"$f":"H87+H88+H89+H90+H91+H92+H93+H94+H95+H96+H97+H98+H102+H108+H109","v":17786097.460000001},{"$f":"I87+I88+I89+I90+I91+I92+I93+I94+I95+I96+I97+I98+I102","v":39592295},null,39136100,42171515,43407398,null,42720192]
["1217640 \"Заходи з енергозбереження\""]
["7","7.1","Розроблення схеми телопостачання міста",2281,0,{"$f":"5000000-394080.8","v":4605919.2},0,{"$f":"F112-G112","v":4605919.2},0,null,0,0,0,null,0]
[null,"7.2","Заходи з енергозбереження: поточний ремонт конструктивних елементів у житлових будинках","2240,2610",0,35000000,0,{"$f":"F113-G113","v":35000000},null,null,{"$f":"35000000-35000000","v":0},0,0]
[null,null,"Всього",null,{"$f":"E112+E113","v":0},{"$f":"F112+F113","v":39605919.200000003},{"$f":"G112+G113","v":0},{"$f":"H112+H113","v":39605919.200000003},{"$f":"I112","v":0},{"$f":"J112","v":0},{"$f":"K112+K113","v":0},{"$f":"L112+L113","v":0},{"$f":"M112+M113","v":0},null,{"$f":"O112","v":0}]
["1217693 \"Інші заходи, пов'язані з економічною діяльністю\""]
["8","8.1","Фінансове забезпечення КП «Кривбастеплоенерго» КМР",2610,{"$f":"E117+E118+E119","v":1849207},{"$f":"F117+F118+F119","v":1849207},{"$f":"G117+G118+G119","v":1065214.75},{"$f":"H117+H118+H119","v":783992.25},{"$f":"I117+I118+I119","v":1919388},null,{"$f":"K117+K118+K119+K120","v":3539751},{"$f":"L117+L118+L119+L120","v":3153473},{"$f":"M117+M118+M119+M120","v":3174934},null,{"$f":"O117+O118+O119+O120","v":3979406}]
[null,"8.1.1","оплата праці",null,1335522,1335522,790223.3,{"$f":"F117-G117","v":545298.69999999995},1573269,null,2359289,2359289,2359289,null,2359289]
[null,"8.1.2","нарахування на оплату праці",null,293815,293815,173849.45,{"$f":"F118-G118","v":119965.54999999999},346119,null,519044,519044,519044,null,519044]
[null,"8.1.3","інші видатки",null,219870,219870,101142,118728,0,null,{"$f":"274786-30000","v":244786},275140,296601,null,{"$f":"850+450+700+720+7700+750+4800+4000+4800+15000+826287+14500+1800+5000+30000+105966+25000+30000+1500+1950+6000+1500+4800+10000+3000-6000-826287","v":274786}]
[null,"8.1.4","Витрати повязані з валютообмінними операціями",null,0,0,0,0,0,null,416632,0,0,null,826287]
[null,"8.2","Витрати, пов'язані з оплатою послуг юридичних, аудиту, процесуального агента, тощо",2610,{"$f":"E122","v":230000},{"$f":"F122","v":230000},{"$f":"G122","v":178560},51440,{"$f":"I122","v":230000},null,{"$f":"K122","v":230000},{"$f":"L122","v":230000},{"$f":"M122","v":230000},null,{"$f":"O122","v":230000}]
[null,"8.2.1","Послуги зовнішніх аудиторів",null,230000,230000,178560,51440,230000,null,230000,230000,230000,null,230000]
[null,"8.3","Витрати, що здійснюються під час реалізації інвестиційного проекту \"Підвищення енергоефективності громадських будівель у м. Кривому Розі\", який підтримується міжнародною фінансовою організацією ЄБРР (погашення основної суми кредиту, процентів, комісій тощо) КП \"Кривбастеплоенерго\" КМР",2610,{"$f":"SUM(E124:E125)","v":23189363},{"$f":"F124+F125","v":17936228},{"$f":"G124+G125","v":2983471.37},14952756.629999999,{"$f":"I124+I125","v":44841679.810000002},null,{"$f":"K124+K125","v":41549048},{"$f":"L124+L125","v":66191047},{"$f":"M124+M125","v":62336461},null,{"$f":"O124+O125","v":44841680}]
[null,"8.3.1","сплата тіла кредиту та відсотків за користування кредитними коштами, комісія за резервування 0,5%",null,17585279,17585279,2983471.37,14601807.629999999,{"$f":"288883.06+10129957.99+6050115.46+15562105.48+12681365+129252.82","v":44841679.810000002},null,{"$f":"24562175+16454784+532089","v":41549048},{"$f":"39230717+26960330","v":66191047},{"$f":"39145584+23190877","v":62336461},null,{"$f":"288883.06+10129957.99+6050115.46+15562105.48+12681365+129252.82+0.19","v":44841680}]
[null,"8.3.2","резервування валюти на валютному рахунку",null,5604084,{"$f":"1850949-1500000","v":350949},0,350949,0,null,0,null,null,null,0]
[null,null,"Всього",null,{"$f":"E116+E121+E123","v":25268570},{"$f":"F116+F121+F123","v":20015435},{"$f":"G116+G121+G123","v":4227246.12},{"$f":"H116+H121+H123","v":15788188.879999999},{"$f":"I116+I121+I123","v":46991067.810000002},null,{"$f":"K116+K121+K123","v":45318799},{"$f":"L116+L121+L123","v":69574520},{"$f":"M116+M121+M123","v":65741395},null,{"$f":"O116+O121+O123","v":49051086}]
["1219770 \"Інші субвенції з місцевого бюджету\""]
["12.","11.1.","«Громадський бюджет 2022» ",2620,{"$f":"E129+E134+E138+E143+E146","v":2811905},{"$f":"F129+F134+F138+F143+F146","v":0},{"$f":"G129+G134+G138+G143+G146","v":0}]
[null,"11.1.1.","По Саксаганському району:",null,{"$f":"E130+E131+E132+E133","v":553607},{"$f":"F130+F131+F132+F133","v":0},{"$f":"G130+G131+G132+G133","v":0}]
[null,"11.1.2.","Простір родинного комфорту (вул.Володимира Великого, 32)",null,1400,0,{"$f":"F130","v":0}]
[null,"11.1.3.","Улюблений Саксаганський: сквер з широким серцем",null,228480,0,{"$f":"F131","v":0}]
[null,"11.1.4.","«Спорт для людей літнього віку. Час-дій»",null,24000,0,{"$f":"F132","v":0}]
[null,"11.1.5.","Відеоспостереження в сквері \"Співдружності\"",null,299727,0,{"$f":"F133","v":0}]
[null,"11.2.1.","По Металургійному району:",null,{"$f":"E135+E136+E137","v":458314},{"$f":"F135+F136+F137","v":0},{"$f":"G135+G136+G137","v":0}]
[null,"11.2.2.","\"Не хочу бути тюхтієм!\"",null,104566,0,{"$f":"F135","v":0}]
[null,"11.2.3.","\"Безпечний сквер\"",null,277700,0,{"$f":"F136","v":0}]
[null,"11.2.4.","\"У здоровому тілі – здоровий дух!\"",null,76048,0,{"$f":"F137","v":0}]
[null,"11.3.1.","По Довгинцівському району:",null,{"$f":"E139+E140+E141+E142","v":405590},{"$f":"F139+F140+F141+F142","v":0},{"$f":"G139+G140+G141+G142","v":0}]
[null,"11.3.2.","«Тим, хто врятував світ» пам’ятник ліквідаторам аварії на ЧАЕС у Довгинцівському районі",null,5000,0,{"$f":"F139","v":0}]
[null,"11.3.3.","Дитячий спортивно-ігровий комплекс «Druzhba» у Довгинцівському районі",null,259320,0,{"$f":"F140","v":0}]
[null,"11.3.4.","«Комфортні хвилини»",null,16620,0,{"$f":"F141","v":0}]
[null,"11.3.5.","\"Гра на рівних\"",null,124650,0,{"$f":"F142","v":0}]
[null,"11.4.1.","По Інгулецькому району:",null,{"$f":"E144+E145","v":221291},{"$f":"F144+F145","v":0},{"$f":"G144+G145","v":0}]
[null,"11.4.2.","\"Павляндія\" Дитячо-спортивний майданчик",null,137291,0,{"$f":"F144","v":0}]
[null,"11.4.3.","\"Пильне око\"- система відеоспостереження",null,84000,0,{"$f":"F145","v":0}]
[null,"11.5.1.","По Тернівському району:",null,{"$f":"E147+E148+E149","v":1173103},{"$f":"F147+F148+F149","v":0},{"$f":"G147+G148+G149","v":0}]
[null,"11.5.2.","\"17 квартал\" - Я та сім'я (облаштування зони відпочинку по вул. Сергія Колачевського)",null,992838,0,{"$f":"F147","v":0}]
[null,"11.5.3.","Відновлення волейбольного майданчику",null,24500,0,{"$f":"F148","v":0}]
[null,"11.5.4.","17 квартал-територія безпеки (відеоспостереження громадського простору по вул. С.Колачевського, 105)",null,155765,0,{"$f":"F149","v":0}]
["1218240 \"Заходи та роботи з територіальної оборони\""]
["9","9.1","Утримання елементів благоустрою (біотуалетів)",2240,12292579,12292579,6728295.5,{"$f":"F151-G151","v":5564283.5},11897764,"182 рази (16 біотуалетів) один раз на два дні",11897764,0,0,null,11897764,"Зменшилась кількість туалетів з 18 од. до 16 од. у звязку зпошкодженням"]
[null,null,"Всього",null,{"$f":"E151","v":12292579},{"$f":"F151","v":12292579},{"$f":"G151","v":6728295.5},5564283.5,11897764,null,11897764,0,0,null,11897764]
["1217520 \"Реалізація Національної програми інформатизації \""]
["10","10.1","Фінансування послуг мережі Інтернет, програмного забезпечення та інформаційних систем(КП \"Парк культури і відпочинку ім. Б. Хмельницького\" КМР)",2610,39600,39600,17200,{"$f":"F154-G154","v":22400},59600,null,{"$f":"59600+51380","v":110980},124742,134472,null,59600]
[null,"10.2","Фінансування послуг мережі Інтернет, програмного забезпечення та інформаційних систем   (КП \"Сансервіс\" КМР)",2610,159600,159600,72000,{"$f":"F155-G155","v":87600},159600,null,{"$f":"160128+83468+7428+66700+38253","v":355977},273114,293871,null,160128]
[null,"10.3"," КП «Кривбастеплоенерго» КМР програмного забезпечення ",2610,0,0,0,0,6000,null,{"$f":"53200+6000","v":59200},{"$f":"66541-5101","v":61440},{"$f":"71731-65731","v":6000},null,{"$f":"53200+6000","v":59200}]
[null,null,"Всього",null,{"$f":"E154+E155+E156","v":199200},{"$f":"F154+F155+F156","v":199200},{"$f":"G154+G155+G156","v":89200},{"$f":"H154+H155+H156","v":110000},{"$f":"I154+I155+I156","v":225200},null,{"$f":"K154+K155+K156","v":526157},{"$f":"L154+L155+L156","v":459296},{"$f":"M154+M155+M156","v":434343},null,{"$f":"O154+O155+O156","v":278928}]
["1218110\"Заходи із запобігання та ліквідації надзвичайних ситуацій та наслідків стихійного лиха\""]
[11,"11.1","Заходи з ліквідації наслідків надзвичайних ситуацій, пов'язаних з ліквідацією наслідків збройної агресії  Російської Федерації проти України  КП «Сансервіс»КМР ",2610,0,535400,0,{"$f":"F159-G159","v":535400},59600,null,3162021,0,0,null,59600]
[]
[null,null,"Спеціальний фонд усього",null,{"$f":"E182+E191+E195+E204+E223+E233+E243+E246","v":303335118},{"$f":"F182+F191+F195+F204+F223+F233+F243+F246","v":728299310.72000003},{"$f":"G182+G191+G195+G204+G223+G233+G243+G246","v":69962106.140000001},{"$f":"H182+H191+H223+H233+H195+H204","v":650823171.45000005},{"$f":"I182+I191+I195+I204+I223+I233+I243+I246+#REF!","v":{"$error":"#REF!"}},null,{"$f":"K182+K191+K195+K204+K223+K233+K243+K246+K249+K185","v":422502427},{"$f":"L182+L191+L195+L204+L223+L233+L243+L246+M250+L185","v":23574600},{"$f":"M182+M191+M195+M204+M223+M233+M243+M246+M249+M185","v":19691200},null,{"$f":"O182+O191+O195+O204+O223+O233+O243+O246+#REF!","v":{"$error":"#REF!"}},null,null,{"$f":"129407600","v":129407600}]
[null,null,"у тому числі:",null,null,null,null,null,null,null,null,null,null,null,null,null,null,{"$f":"R161+K206+K222+K243","v":426402450}]
["1216011 \"Експлуатація та технічне обслуговування житлового фонду\""]
["1.","1.1.","Підтримка ОСББ (виконання капітального ремонту) ДРІМ - головний розпорядник",3131,30000000,0,0]
[null,"1.1.2.","Теплий під'їзд (капітальний ремонт із заміни вікон у місцях загального користування)",3210,0,13031844,0]
[null,"1.1.3.","За поданими зверненнями:ОСББ «Клен-2»",3210,0,0]
[null,"1.2.","Капітальний ремонт житлового фонду",3131,{"$f":"E168+E169","v":38000000},{"$f":"F168+F169","v":0},{"$f":"G168+G169","v":0}]
[null,"1.2.1.","«Капітальний ремонт споруди гуртожитку за адресою на вул. Панаса Мирного, 16, м. Кривий Ріг»",3131,9000000,0,0]
[null,"1.2.2.","Капітальний ремонт фасадів житлових будинків (пр. Металургів, О. Поля, Старовокзальна)",3131,29000000,0]
[null,null,"Всього",null,{"$f":"E167+E166+E165+E164","v":68000000},{"$f":"F167+F166+F165+F164","v":13031844},{"$f":"G167+G166+G165+G164","v":0}]
["1216012 \"Забезпечення діяльності з виробництва, транспортування, погстачання теплової енергії\""]
["1.",null,"Придбання матеріалів, обладнання (устаткування) для виконання робіт з будівництва, реконструкції,капітального та поточного ремонту котелень та теплових мереж \"КПТМ \"Криворіжтепломережа\"",3210,{"$f":"F172","v":10000000},10000000]
["1216013 \"Забезпечення діяльності водопровідно-каналізаційного господарства\""]
["2.","2.1.","Капітальний ремонт мереж водопостачання та водовідведення (КП \"Кривбасводоканал\" )",3210,11000000,{"$f":"13566863-11000000","v":2566863},0]
[null,"2.2.","Придбання матеріалів, обладнання (устаткування) для виконання капітальних ремонтів водопровідних та каналізаційних мереж і споруд водопостачання та водовідведення (КП \"Кривбасводоканал\")",3210,5000000,0,0]
[null,null,"Всього",null,{"$f":"E174+E175","v":16000000},{"$f":"F174+F175","v":2566863},{"$f":"G174+G175","v":0}]
["1216015 \"Забезпечення надійної та безперебійної експлуатації ліфтів\""]
["3.","3.1.","Капітальний ремонт ліфтів",3131,100000000,{"$f":"20000000-20000000","v":0},0]
[null,null,"Всього",null,{"$f":"E178","v":100000000},{"$f":"F178","v":0},{"$f":"G178","v":0}]
["1216013 \"Забезпечення діяльності водопровідно-каналізаційного господарства\""]
[1,"1.1","Придбання матеріалів для виконання капітального ремонту мереж водопостачання та водовідведення на вул. Кропивницького 2024 рік (КП \"Кривбасводоканал\")   ",3210,400000,400000,0,{"$f":"F181-G181","v":400000},{"$f":"9000000+7300000+2200000","v":18500000},null,3000000,0,0,null,{"$f":"9000000+8000000+2915000+16381458+2200000+12000000","v":50496458},null,null,{"$f":"K161-R162","v":-3900023}]
[null,null,"Всього",null,{"$f":"E181","v":400000},{"$f":"F181","v":400000},{"$f":"G181","v":0},{"$f":"SUM(H181:H181)","v":400000},{"$f":"I181","v":18500000},null,{"$f":"K181","v":3000000},{"$f":"L181","v":0},{"$f":"M181","v":0},null,{"$f":"O181","v":50496458}]
["1216015 \"Забезпечення надійної та безперебійної експлуатації ліфтів\""]
["2","2.1","Капітальний ремонт ліфтів у багатоквартирних будинках",3131,0,0,0,{"$f":"F184-G184","v":0},{"$f":"9000000+7300000+2200000","v":18500000},null,23520749,0,0,null,{"$f":"9000000+8000000+2915000+16381458+2200000+12000000","v":50496458}]
[null,null,"Всього",null,{"$f":"E184","v":0},{"$f":"F184","v":0},{"$f":"G184","v":0},{"$f":"SUM(H184:H184)","v":0},{"$f":"I184","v":18500000},null,{"$f":"K184","v":23520749},{"$f":"L184","v":0},{"$f":"M184","v":0},null,{"$f":"O184","v":50496458}]
["КПКВК 1216030 \"Організація благоустрою населених пунктів\""]
["3","3.1","Придбання контейнерних систем для розміщення контейнерів для збору твердих побутових відходів",3110,10000000,{"$f":"8190768-481768","v":7709000},7709000,{"$f":"F187-G187","v":0},7710000,"2024-130 од.,2025-110 од.",{"$f":"7710000-1000000-417000+1000000+417000+1033000","v":8743000},0,0,null,9100000,"130 од."]
[null,"3.2","Заходи у сфері благоустрою КП \"Сансервіс\" КМР",3210,1383600,1086060,1086060,{"$f":"F188-G188","v":0},0,null,0,0,0]
[null,"3.3","Придбання мобільних туалетних кабін (біотуалетів)   ",3110,0,{"$f":"99000+75000+62899","v":236899},163898.12,{"$f":"F189-G189","v":73000.88},80000,"2 од.",{"$f":"80000+650000","v":730000},0,0,null,80000,"2 од."]
[null,"3.4","Придбання та встановлення джерел резервного живлення для світлофорних об'єктів",3110,0,{"$f":"8000000-801832.4","v":7198167.5999999996},0,{"$f":"F190-G190","v":7198167.5999999996},null,null,8000000,0,0]
[null,null,"Всього",null,{"$f":"E187+E188+E189+E190","v":11383600},{"$f":"F187+F188+F189+F190","v":16230126.6},{"$f":"G187+G188+G189+G190","v":8958958.1199999992},{"$f":"F191-G191","v":7271168.4800000004},{"$f":"I187+I188+I189","v":7790000},null,{"$f":"K187+K188+K189+K190","v":17473000},{"$f":"L187+L188+L189+L190","v":0},{"$f":"M187+M188+M189+M190","v":0},null,{"$f":"O187+O188+O189","v":9180000}]
["КПКВК 1216091 \"Будівництво об'єктів житлово-комунального господарства\""]
[4,"4.1","Реконструкція Меморіального бульвару ",3142,29775978,0,0,{"$f":"F193-G193","v":0},0,null,0,0,0,null,50000000]
[null,"4.2","«Нове будівництво Меморіального комплексу в секторі почесних поховань на частині земельної ділянки призначеної для розширення кладовища «Центральне» ІІ черга: Дніпропетровська область, Криворізький район, Новопільська сільська рада",3122,62065540,{"$f":"62065540-20967076","v":41098464},{"$f":"588253.44","v":588253.43999999994},{"$f":"F194-G194","v":40510210.560000002},69549410,null,{"$f":"113778432.98+0.02-691313-45864000+2400000-28623120+4000000+5000000","v":50000000},0,0,null,69549410]
[null,null,"Всього",null,{"$f":"E193+E194","v":91841518},{"$f":"F193+F194","v":41098464},{"$f":"G193+G194","v":588253.43999999994},{"$f":"SUM(H193:H194)","v":40510210.560000002},{"$f":"I193+I194","v":69549410},null,{"$f":"K193+K194","v":50000000},{"$f":"L193+L194","v":0},{"$f":"M193+M194","v":0},null,{"$f":"O193+O194","v":119549410}]
["1216092  «Реалізація проектів (заходів) з відновлення обєктів житлового фонду, пошкоджених / знищених внаслідок збройної агресії, за рахунок коштів місцевих бюджетів»       "]
[5,"5.1","Заходи, пов'язані з попередженням і ліквідацією наслідків збройної агресії Російської Федерації ТОВ \"Дивобуд\",\nвул. Каунаська, 3; \nвул. Комерційна, 3; \nвул. Свято-Миколаївська, 53, 57, 62, 56а\n  ",3210,0,7302369.2400000002,7302369.2400000002,{"$f":"F197-G197","v":0},0,null,0,0,0,null,0]
[null,"5.2","Розробка ПКД по об'єкту \"Капітальний ремонт пошкодженого житлового будинку по вул.Віталія Власова,5\"",3131,0,600000,598661.35,{"$f":"F198-G198","v":1338.6500000000233},0,null,0,0,0,null,0]
[null,"5.3","Розробка ПКД на капітальний ремонт покрівель будинків за наступними адресами: м. Кривий Ріг: вул. Героїв-підпільників буд. 30, вул. Героїв-підпільників буд. 32, вул. Героїв-підпільників буд. 34 (ТОВ \"ЖИТЛОСЕРВІС-КР\")",3210,0,{"$f":"9220000-311033.13","v":8908966.8699999992},711354.08,{"$f":"F199-G199","v":8197612.7899999991},null,null,0,0,0]
[null,"5.4"," \"Капітальний ремонт пошкодженого житлового будинку по вул.Віталія Власова,5\"",3131,0,7600000,0,{"$f":"F200-G200","v":7600000},null,null,0,0,0]
[null,"5.5","Проведення капітального ремонту конструктивних елементів житлового будинку вт.ч. ПКД за адресою:м.Кривий Ріг,вул.Соборності,22 (ОСББ \"Соборності 22\")",null,0,{"$f":"110000+2300000","v":2410000},null,null,null,null,0,0,0]
[null,"5.6","Проведення капітального ремонту конструктивних елементів житлових будинків в т.ч. ПКД за адресами: вул. Гетьманська  буд. 82 (ТОВ \"Житлосервіс-КР\")",null,0,{"$f":"4800000+201033.13","v":5001033.13},null,null,null,null,0,0,0]
[null,"5.7","Розроблення  ПКД для подальшого проведення капітального ремонту житлового будинку за адресою:вул.Миколи Ткачова,12",null,0,103000,null,null,null,null,417000,0,0]
[null,null,"Всього",null,{"$f":"E197+E198+E199+E200","v":0},{"$f":"F197+F198+F199+F200+F201+F202+F203","v":31925369.239999998},{"$f":"G197+G198+G199+G200+G201+G202+G203","v":8612384.6699999999},15798951.439999999,0,0,417000,0,0,null,{"$f":"O197+O198","v":0}]
["1217640 \"Заходи з енергозбереження\""]
[6,"6.1.","Витрати, пов'язані із забезпечення реалізації КП \"Кривбастеплоенерго\" КМР інвестиційного проекту \"Підвищення енергоефективності громадських будівель у м.Кривому Розі\", за укладеним кредитним договором (співфінансування)",3210,23310000,{"$f":"23310000-17585279+2338319","v":8063040},4155970.67,{"$f":"F206-G206","v":3907069.33},{"$f":"55195140+4851000","v":60046140},null,61165350,0,0,null,60046140]
[null,"6.2.","Фінансове забезпечення КПТМ \"Криворіжтепломережа\"  для здійснення заходів з енергозбереження: капітальний ремонт теплових мереж, в т.ч. супровідні роботи (субвенція) в т.ч",3210,{"$f":"SUM(E208:E209)","v":160000000},{"$f":"SUM(F208:F209)","v":160000000},{"$f":"SUM(G208:G209)","v":0},{"$f":"SUM(H208:H209)","v":160000000},{"$f":"I208+I209+I210","v":0},null,{"$f":"K208+K209","v":0},{"$f":"L208+L209","v":0},{"$f":"M208+M209","v":0},null,{"$f":"O208+O209","v":0}]
[null,"6.2.1","Заходи з енергозбереження.Капітальний ремонт теплових мереж від котельні \"КМК\" на ділянці ТК-422 по вул. Нахімова до ТК-444 по вул.Трамвайна в Металургійному районі, м.Кривий Ріг,Дніпропетровська область в т.ч. технічний нагляд,авторський нагляд",null,61451970,65471830,0,{"$f":"F208-G208","v":65471830},0,null,0,0,0,null,0]
[null,"6.2.2","Заходи з енергозбереження. Капітальний ремонт теплових мереж  від котельні \"КМК\" на дільниці ТК-324 - ТК-324/8 в Металургійному районі, м. Кривий Ріг, Дніпропетровська область в т.ч. технічний нагляд, авторський нагляд",null,98548030,94528170,0,{"$f":"F209-G209","v":94528170},0,null,0,0,0,null,0]
[null,"6.3","Фінансове забезпечення КПТМ \"Криворіжтепломережа\"  для здійснення заходів з енергозбереження: капітальний ремонт теплових мереж, в т.ч. супровідні роботи (місцевий бюджет)",null,0,1445000,null,{"$f":"F210-G210","v":1445000},0,null,0,0,0,null,0]
[null,"6.4","Фінансове забезпечення КПТМ \"Криворіжтепломережа\" для здійснення заходів з енергозбереження: реконструкція магістральних теплових мереж, котелень з приєднанням до інженерних мереж  та придбанням обладнання, предметів довгострокового користування (в т.ч. на проєктні та супровідні роботи) в т.ч.",3210,{"$f":"E212+E213+E214+E215+E216+E217+E2367","v":0},{"$f":"F212+F213+F214+F215+F216+F217+F2367+F218","v":273680272},{"$f":"G212+G213+G214+G215+G216+G217+G2367+G218","v":817028.53},{"$f":"SUM(H212:H215)","v":263583243.47},{"$f":"I212+I213+I214+I215","v":295000000},null,{"$f":"K212+K213+K214+K215","v":0},{"$f":"L212+L213+L214+L215","v":0},{"$f":"M212+M213+M214+M215","v":0},null,{"$f":"O212+O213+O214+O215","v":500000000}]
[null,"6.4.1.","Розробка проєктно-кошторисної документації Заходи з енергозбереження. Реконструкція котельні «Центральна» з встановленням когенераційної газопоршневої установки за адресою: 50000, Україна, Дніпропетровська область, м. Кривий Ріг, вулиця Рудна, 53.",null,0,4500000,0,{"$f":"F212-G212","v":4500000},0,null,{"$f":"1000000-1000000","v":0},{"$f":"1000000-1000000","v":0},{"$f":"1000000-1000000","v":0},null,0]
[null,"6.4.2.","Заходи з енергозбереження. Реконструкція котельні та приєднання до інженерних мереж з встановленням блочно-модульної котельні за адресою: вулиця Криворіжсталі, 2м, м. Кривий Ріг, Дніпропетровська область  ( в т. ч.ПКД та супровідні роботи)",null,0,110000000,0,{"$f":"F213-G213","v":110000000},0,null,0,0,0,null,0]
[null,"6.4.3.","Заходи з енергозбереження. Реконструкція магістральної тепломережі від котельні «Гігант» до ТК-158 в Саксаганському районі м. Кривий Ріг, Дніпропетровська область( в т.ч. ПКД та супровідні роботи)",null,0,139400272,817028.53,138583243.47,0,null,0,0,0,null,0]
[null,"6.4.4.","Заходи з енергозбереження. Реконструкція котельні «Механобрчермет» та приєднання до інженерних мереж за адресою: вулиця Телевізійна,3Н, м. Кривий Ріг, Дніпропетровська область.  Розробка ПКД",null,0,10500000,0,10500000,295000000,null,0,0,0,null,500000000]
[null,"6.4.5.","Заходи з енергозбереження. Реконструкція магістральної тепломережі котельні «Гігант» від ТК-158 до ТК- 139 в Саксаганському районі м. Кривий Ріг, Дніпропетровська область. Розробка ПКД",null,0,4200000,0,4200000,null,null,0,0,0]
[null,"6.4.6.","Заходи з енергозбереження. Реконструкція магістральної тепломережі котельні «Гігант» від ТК-136 до ТК- 114 в Саксаганському районі м. Кривий Ріг, Дніпропетровська область. Розробка ПКД",null,0,2630000,0,2630000,null,null,0,0,0]
[null,"6.4.7.","Заходи з енергозбереження. Реконструкція магістральної теплової мережі від котельні по вулиці Телевізійна,3н до ТК-331 в Довгинцівському районі м. Кривий Ріг, Дніпропетровська область",null,0,2450000,0,2450000,null,null,0,0,0]
[null,"6.5","Cубвенція з обласного бюджету до бюджету Криворізької міської територіальної громади для здійснення заходів, в тому числі з енергозбереження, на об’єктах теплопостачання комунальної власності міста Кривий Ріг в умовах збройної агресії Російської Федерації проти України в т.ч.",3210,0,140000000,0,140000000,{"$f":"I220","v":0},null,{"$f":"K220","v":0},0,0,null,{"$f":"O220","v":0}]
[null,"6.5.1.","« Заходи з енергозбереження. Реконструкція котельні «Центральна» з встановленням когенераційної газопоршневої установки за адресою: 50000, Україна, Дніпропетровська область, м. Кривий Ріг, вулиця Рудна, 53» ",null,0,{"$f":"F219","v":140000000},0,140000000,0,null,0,0,0]
[null,"6.6","Заходи з енергозбереження.Реконструкція обладнання на котельні КПНЗ \"Центру туризму, краєзнавства та екскурсій учнівської молоді Інгулецького району\" КМР ззаміною котлів \"Універсал-5\" і допоміжного обладнання за адресою: 50000, Україна, Дніпропетровська область м. Кривий Ріг. вул. Ніколозельська, 20 КП \"Кривбастеплоенерго\" КМР",3210,0,0,0,0,0,null,{"$f":"4492512","v":4492512},0,0,null,4492512]
[null,"6.7","КПТМ \"Криворіжтепломережа\" ремонт внутрішньоквартальних та магістральних мереж  ",3210,0,0,0,0,null,null,225000000,0,0]
[null,null,"Всього",null,{"$f":"E206+E207+E210+E211+E219+E221","v":183310000},{"$f":"F206+F207+F210+F211+F219+F221","v":583188312},{"$f":"G206+G207+G210+G211+G219+G221","v":4972999.2},578215312.79999995,{"$f":"I206+I207+I210+I211+I219+I221","v":355046140},null,{"$f":"K206+K207+K210+K211+K219+K221+K222","v":290657862},{"$f":"L206+L207+L210+L211+L219+L221+L222","v":0},{"$f":"M206+M207+M210+M211+M219+M221+M222","v":0},null,{"$f":"O206+O207+O210+O211+O219+O221+#REF!","v":{"$error":"#REF!"}}]
["1217670 \"Внески до статутного капіталу суб'єктів господарювання\"",null,null,null,null,null,null,null,null,null,null,null,null,null,null,null,null,""]
[7,"7.1.","Поповнення статутного капіталу для придбання спеціалізованої техніки КП Кривбасводоканал» ",3210,15000000,{"$f":"20376582-923772-95228","v":19357582},{"$f":"10086000+5376582+3895000","v":19357582},{"$f":"F225-G225","v":0},0,null,0,0,0]
[null,"7.2.","Поповнення статутного капіталу на придбання спеціалізованої  техніки та придбання приладу обліку теплової енергії  КП «Сансервіс»КМР",3210,1400000,{"$f":"1400000-10000","v":1390000},{"$f":"1305000","v":1305000},{"$f":"F226-G226","v":85000},1400951,"Придбання засобів малої механізації (мотокоса, висоторіз, бензопила, мотоножниці, культиватор)",{"$f":"40000000-40000000","v":0},0,0,null,82406922.599999994,"Придбання засобів малої механізації (мотокоса, висоторіз, бензопила, мотоножниці, культиватор) Спецтехніка (автокран, вантажний бортовий тентовий автомобіль, евакуатор, машина дорожня комбінована, автопідйомник, легковий автомобіль)"]
[null,"7.3.","Заходи з енергозбереження (реконструкція системи газопостачання котельні КГ №8)                                                     КП \"Кривбастеплоенерго\" КМР",3210,0,{"$f":"1500000-31107.12","v":1468892.88},845548.71,{"$f":"F227-G227","v":623344.16999999993},0,null,0,0,0]
[null,"7.4","Поповнення статутного капіталу на придбання джерел резервного живлення (генераторів) КП \"Кривбасводоканал\"",3210,0,{"$f":"13000000+8837100-1119916","v":20717184},12798000,{"$f":"F228-G228","v":7919184},0,null,0,0,0]
[null,"7.5","Поповнення статутного капіталу на придбання джерел резервного живлення (генераторів)  КПТМ \"Криворіжтепломережа\"",3210,0,{"$f":"13000000-476620","v":12523380},12523380,{"$f":"F229-G229","v":0},0,null,0,0,0]
[null,"7.6","Поповнення статутного капіталу на придбання  автомобіля КП \"Центр поводження з тваринами\" КМР",3210,0,0,0,0,0,null,1507316,0,0,null,1507316]
[null,"6.7","Поповнення статутного капіталу на придбання  автомобіля КП \"Парковка і реклама\" КМР",3210,0,0,0,0,null,null,{"$f":"10000000-10000000","v":0}]
[null,"7.7","Поповнення статутного капіталу на придбання  спецтехніки КПТМ Криворіжтепломережа",3210,0,0,0,0,null,null,{"$f":"35350000-10350000","v":25000000},0,0]
[null,null,"Всього",null,{"$f":"E225+E226+E227+E228+E229+E230+E231+E232","v":16400000},{"$f":"F225+F226+F227+F228+F229+F230+F231+F232","v":55457038.879999995},46829510.710000001,8627528.1699999999,1400951,{"$error":"#VALUE!"},26507316,0,0,null,{"$f":"O225+O226+O227+O228+O229+O230","v":83914238.599999994}]
["1218340 \"Природоохоронні заходи за рахунок цільових фондів\""]
[8,"8.1","КП \"Сансервіс\" КМР озеленення                           ",3210,0,0,0,{"$f":"F235-G235","v":0},{"$f":"I236+I237+I238+I239","v":8661095},null,{"$f":"K236+K237+K238+K239","v":10829500},23574600,19691200,null,{"$f":"O236+O237+O238+O239","v":18979907}]
[null,null,"оплата праці",null,0,0,0,0,3995142,null,{"$f":"3430441+2375738","v":5806179},null,null,null,10874827]
[null,null,"нарахування на оплату праці",null,0,0,0,0,878931,null,{"$f":"754697+522662","v":1277359},null,null,null,2392462]
[null,null,"оплата комунальних послуг та енергоносіїв",null,0,0,0,0,691982,null,{"$f":"691982","v":691982},null,null,null,691982]
[null,null,"інші видатки",null,0,0,0,0,3095040,null,{"$f":"3033980+20000","v":3053980},null,null,null,5020636]
[null,"7.2","Будівництво, розширення та реконструкція каналізаційних мереж і споруд на них КП \"Кривбасводоканал\"",3210,0,0,0,{"$f":"F240-G240","v":0},{"$f":"28864661","v":28864661},null,0,null,null,null,{"$f":"55268450","v":55268450}]
[null,"7.3","КП \"Парк культури і відпочинку ім. Б. Хмельницького\" КМР озеленення",3210,0,0,0,{"$f":"F241-G241","v":0},0,null,0,null,null,null,2011567,"Послуги з озеленення центральної клумби \nв парку ім. Ф. Мершавцева \n"]
[null,"7.4","Рекультивація полігону для складування твердих побутових відходів (нове будівництво)",3122,0,0,0,{"$f":"F242-G242","v":0},0,null,null,null,null,null,{"$f":"338570424-1469860.75+0.75+1500000","v":338600564}]
[null,null,"Всього",null,{"$f":"E235+E240+E241+E242","v":0},{"$f":"F235+F240+F241+F242","v":0},{"$f":"G235+G240+G241+G242","v":0},{"$f":"H235+H240+H241+H242","v":0},{"$f":"I235+I240+I241+I242","v":37525756},null,{"$f":"K235+K240+K241","v":10829500},{"$f":"L235+L240+L241","v":23574600},{"$f":"M235+M240+M241","v":19691200},null,{"$f":"O235+O240+O241+O242","v":414860488}]
["1217520 \"Реалізація Національної програми інформатизації \""]
["9","9.1"," КП «Кривбастеплоенерго» КМР Комплект комп'ютерної техніки 3 од.",3210,0,0,0,0,0,null,69000,0,0,null,69000]
[null,null,"Всього",null,{"$f":"E245","v":0},{"$f":"F245","v":0},{"$f":"G245","v":0},{"$f":"F246-G246","v":0},0,null,{"$f":"K245","v":69000},{"$f":"L245","v":0},{"$f":"M245","v":0},null,{"$f":"O245","v":69000}]
["1217670 \"Інші заходи, пов'язані з економічною діяльністю\""]
["10","10.1","Придбання обладнання та предметів дорвгострокового користування (тепловізор) КП \"Кривбастеплоенерго\" КМР",3210,0,0,0,0,0,null,{"$f":"28000","v":28000},0,0,null,28000]
[null,null,null,null,{"$f":"E248","v":0},{"$f":"F248","v":0},0,0,0,null,28000,null,0,null,28000]
[null,null,null,null,null,null,null,null,null,null,null,null,{"$f":"L248","v":0}]
[]
[]
[null,null,"Директор департаменту розвитку інфраструктури міста виконкому Криворізької міської ради",null,null,null,"Іван КАРИЙ",null,null,null,null,null,null,null,null,null,2025,"2026","2027"]
[null,null,null,null,null,"ПРОГРАМА",null,null,null,null,"Сума (тис.грн.)","БЮДЖЕТ",null,null,null,null,"Сума (грн.)"]
[]
[null,null,null,null,null,"п.1.1",null,null,null,null,23520.749,1216015,"п.2.1",null,null,null,{"$f":"K184","v":23520749}]
[null,null,"Виконавці:",null,null,"п.1.5 ",null,null,null,null,500,1216011,"п.2,1",null,null,null,{"$f":"K18","v":500000}]
[null,null,"Світлана Сереженко,",null,null,null,null,null,null,null,null,null," п.2.2",null,null,null,{"$f":"K21","v":20000000}]
[null,null,"Гоцалюк Анастасія,",null,null,"п.8",null,null,null,null,120000,1216092,"п.5,7",null,null,null,417000]
[null,null,"Шишов Віталій,",null,null,"п.2.1",null,null,null,null,60,"1216090","п.6.1",null,null,null,{"$f":"K87","v":5000},5620,6058]
[null,null,"Скрипій Оксана,",null,null,null,null,null,null,null,null,null,"п.6.5",null,null,null,{"$f":"K91","v":55000},61820,66642]
[null,null,"Снісаренко Марина,",null,null,"п.2,2",null,null,null,null,50,null,"п.6.8",null,null,null,50000,56200,60584]
[null,null,"Швець Віта",null,null,"п.2.5",null,null,null,null,84,null,"п.6.11",null,null,null,{"$f":"K97","v":84000},94.415999999999997,101.78]
[null,null,null,null,null,"п.2.6",null,null,null,null,1190.33,"1216015","п.6.2, 6.4, 6.9, 6.10",null,null,null,{"$f":"K88+K90+K95+K96","v":1190325},{"$f":"5620+123640+84655","v":213915},{"$f":"6058+133284+91269","v":230611}]
[null,null,null,null,null,"п.3.4",null,null,null,null,{"$f":"8743+2500","v":11243},"1216030","п.3.1",null,null,null,{"$f":"K187+K54","v":11243000}]
[null,null,null,null,null,"п.4.7",null,null,null,null,25000,"1217670","п.7.7",null,null,null,{"$f":"K232","v":25000000}]
[null,null,null,null,null,"п.4.18",null,null,null,null,622,"1216013","п.4.2",null,null,null,{"$f":"K35","v":622000},{"$f":"L35","v":699128.00000000012}]
[null,null,null,null,null,"п.4.21",null,null,null,null,3000,null,"п.1.1",null,null,null,{"$f":"K181","v":3000000}]
[null,null,null,null,null,"п.4.24",null,null,null,null,1250,null,"п..4.1",null,null,null,{"$f":"K34","v":1250000},{"$f":"L34","v":1405000.0000000002}]
[null,null,null,null,null,"п.6.2",null,null,null,null,28,"1217670","п.10.1",null,null,null,{"$f":"K248","v":28000}]
[null,null,null,null,null,"п.4.16",null,null,null,null,83427.899999999994,"1217640","п.6.7",null,null,null,83427900]
[null,null,null,null,null,"п.6.5",null,null,null,null,4492.5,null,45449,null,null,null,4492512]
[null,null,null,null,null,null,null,null,null,null,{"$f":"SUM(K256:K271)","v":269975.97899999999},null,null,null,null,null,{"$f":"SUM(Q256:Q271)","v":170392974},{"$f":"SUM(R256:R271)","v":2441777.4160000002},{"$f":"SUM(S256:S271)","v":363996.78}]

{"sheet":"Лист1","index":2,"n_rows":14,"n_cols":7,"rows_kept":14,"cut":false,"hidden":false,"merged":[[3,4,4,4],[3,5,4,5],[3,6,4,6],[3,2,4,2],[0,0,1,0],[0,1,1,1],[0,2,0,6],[3,0,4,0],[3,1,4,1],[3,3,4,3]]}
[null,"Орієнтовні обсяги фінансува-ння, усього","За роками виконання"]
[null,null,2024,2025,2026,2027,2028]
["Державний бюджет",{"$f":"C3+D3+E3++F3+G3","v":0},0,0,0,0,0]
["Обласний бюджет (інші субвенції)",748783.3,"300 000,00",{"$f":"348783.3+100000","v":448783.3},0,0,0]
[]
["Бюджет Криворізької міської територіаль-ної громади",{"$f":"C6+D6+E6+F6+G6","v":4981085.7},934421.14,933591.56,944929,1020364,1147780]
["Інші джерела ",{"$f":"C7+D7+E7+F7+G7","v":0},0,0,0,0,0]
["Усього",{"$f":"C8+D8+E8+F8+G8","v":5729869},1234421.1399999999,{"$f":"D4+D6","v":1382374.86},{"$f":"E4+E6+E7","v":944929},{"$f":"F4+F6","v":1020364},{"$f":"G3+G4+G6+G7","v":1147780}]
[]
[]
[]
[]
[null,{"$f":"B4+B6","v":5729869}]
[null,{"$f":"C8+D8+E8+F8+G8","v":5729869}]

{"sheet":"Лист2","index":3,"n_rows":24,"n_cols":16,"rows_kept":24,"cut":false,"hidden":false,"merged":[]}
[]
[]
[]
[]
[]
[]
[]
[]
[]
[]
[]
[]
[]
[]
[]
[]
[]
[]
[]
[]
[]
[]
[]
[null,null,null,null,null,null,null,null,null,null,null,1234421.1399999999,null,null,null,"920 214,00"]